BEGIN:VCALENDAR
VERSION:2.0
PRODID:-//wp-events-plugin.com//7.2.3.1//EN
TZID:America/New_York
X-WR-TIMEZONE:America/New_York
BEGIN:VEVENT
UID:426@breatheatlanta.us
DTSTART;TZID=America/New_York:20240917T183000
DTEND;TZID=America/New_York:20240917T193000
DTSTAMP:20240903T112030Z
URL:https://breatheatlanta.us/events/%e2%86%96%ef%b8%8f-atl-wellness-by-th
 e-water-powered-by-lululemon/
SUMMARY:↖️ [ATL] Wellness by the Water Powered by lululemon
DESCRIPTION:Elevate your fitness routine at one of Atlanta's most breathtak
 ing venues—Georgia Aquarium\, in collaboration with lululemon. Join us f
 or "Wellness by the Water\," where you can work up a sweat in an inspiring
  setting like no other. Imagine the calming presence of ocean life as you 
 push through a high-energy workout\, surrounded by the aquarium’s stunni
 ng marine backdrop.\n\nAfter your workout\, unwind with a transformative s
 ound bath experience led by a skilled healing practitioner and Reiki Maste
 r from SND Bath. This unique journey utilizes angelic sounds from quartz c
 rystal bowls\, attuned to your body's energy system\, to help release ener
 getic blockages\, reduce stress\, and promote healing. The soothing rhythm
 s of native drums\, reminiscent of ocean waves\, combined with the gentle 
 tones of Koshi chimes\, harmonize with the calming visuals of whale sharks
 \, manta rays\, and other magnificent sea creatures.\n\nDoors open at 6:00
  pm\, with the class beginning promptly at 6:30 pm. To add to the evening
 ’s special ambiance\, there will be a Lululemon giveaway at the end of t
 he session. Don’t miss this extraordinary opportunity to blend fitness\,
  relaxation\, and oceanic tranquility into a truly unique wellness experie
 nce.\n\nGET TICKETS\n
ATTACH;FMTTYPE=image/jpeg:https://breatheatlanta.us/wp-content/uploads/202
 4/09/↖️-ATL-Wellness-by-the-Water-Powered-by-lululemon.jpg
CATEGORIES:Things To Do,Wellness Events,Yoga Events
LOCATION:Georgia Aquarium\, 225 Baker Street Northwest Atlanta\, GA 30313 U
 nited States\, GA \,  United States\, 30313\, GA\, United States
X-APPLE-STRUCTURED-LOCATION;VALUE=URI;X-ADDRESS=225 Baker Street Northwest 
 Atlanta\, GA 30313 United States\, GA \,  United States\, 30313\, GA\, Uni
 ted States;X-APPLE-RADIUS=100;X-TITLE=Georgia Aquarium:geo:0,0
END:VEVENT
BEGIN:VTIMEZONE
TZID:America/New_York
X-LIC-LOCATION:America/New_York
BEGIN:DAYLIGHT
DTSTART:20240310T030000
TZOFFSETFROM:-0500
TZOFFSETTO:-0400
TZNAME:EDT
END:DAYLIGHT
END:VTIMEZONE
END:VCALENDAR