BEGIN:VCALENDAR
VERSION:2.0
PRODID:-//wp-events-plugin.com//7.2.3.1//EN
TZID:America/New_York
X-WR-TIMEZONE:America/New_York
BEGIN:VEVENT
UID:348@breatheatlanta.us
DTSTART;TZID=America/New_York:20240703T150000
DTEND;TZID=America/New_York:20240706T140000
DTSTAMP:20240627T110815Z
URL:https://breatheatlanta.us/events/19th-annual-amcsi-conference/
SUMMARY:19th Annual AMCSI Conference
DESCRIPTION:\n\n\n\nThe 19th Annual AMCSI Conference\, scheduled for July 3
 rd-6th\, 2024 in Atlanta\, GA\, stands as a beacon of unity and support fo
 r those affected by arthrogryposis multiplex congenita (AMC). This neuromu
 scular disorder\, affecting approximately one in 3000 newborns\, often lea
 ves individuals feeling isolated due to its rarity and unique challenges.\
 n\n\n\n\n\n\n\n\n\n\n\nFounded through the visionary efforts of a dedicate
 d mother and supported by a robust community\, the AMC support group has l
 everaged the power of the internet to bridge geographical gaps and offer v
 ital support. Beyond raising awareness about AMC\, the group's mission ext
 ends to fostering understanding and providing a network of empathy and sol
 idarity. For those who have felt marginalized or alone in their struggles 
 with AMC\, the conference serves as a crucial gathering point—a place wh
 ere individuals\, families\, and caregivers can connect with others who sh
 are similar experiences.\n\nWhile online connections provide initial suppo
 rt\, the conference offers a deeper level of engagement and learning. It p
 rovides a platform for sharing firsthand experiences and practical solutio
 ns that may be difficult to articulate virtually. Techniques for adaptive 
 living\, such as learning to sit up or stand without the use of limbs\, ar
 e exchanged openly\, offering profound insights and encouragement to atten
 dees.\n\nMoreover\, the conference is a testament to collective strength a
 nd resilience. By bringing together a diverse range of professionals—doc
 tors\, physical therapists\, occupational therapists—and inviting partic
 ipants from around the globe\, the event fosters a rich exchange of knowle
 dge and expertise. Workshops\, seminars\, and interactive sessions empower
  attendees to learn new strategies\, share laughter and tears\, and forge 
 lasting bonds within the global AMC community.\n\nEach annual gathering re
 affirms the importance of solidarity and support in navigating the challen
 ges posed by AMC. It celebrates the victories\, both big and small\, achie
 ved through determination and shared knowledge. As participants unite to l
 earn\, grow\, and advocate for greater awareness and resources\, the AMCSI
  Conference continues to strengthen the foundation of support for those af
 fected by arthrogryposis multiplex congenita.\n\nGET TICKETS\n\n\n\n\n\n\n
ATTACH;FMTTYPE=image/jpeg:https://breatheatlanta.us/wp-content/uploads/202
 4/06/19th-Annual-AMCSI-Conference.jpg
CATEGORIES:Mindfulness Events,Things To Do
LOCATION:Hyatt Regency Atlanta\, 265 Peachtree St. NE Atlanta\, Atlanta\, G
 eorgia\, 30303\, GA \, United States
X-APPLE-STRUCTURED-LOCATION;VALUE=URI;X-ADDRESS=265 Peachtree St. NE Atlant
 a\, Atlanta\, Georgia\, 30303\, GA \, United States;X-APPLE-RADIUS=100;X-T
 ITLE=Hyatt Regency Atlanta:geo:0,0
END:VEVENT
BEGIN:VTIMEZONE
TZID:America/New_York
X-LIC-LOCATION:America/New_York
BEGIN:DAYLIGHT
DTSTART:20240310T030000
TZOFFSETFROM:-0500
TZOFFSETTO:-0400
TZNAME:EDT
END:DAYLIGHT
END:VTIMEZONE
END:VCALENDAR