BEGIN:VCALENDAR
VERSION:2.0
PRODID:-//wp-events-plugin.com//7.2.3.1//EN
TZID:America/New_York
X-WR-TIMEZONE:America/New_York
BEGIN:VEVENT
UID:42@breatheatlanta.us
DTSTART;TZID=America/New_York:20240914T070000
DTEND;TZID=America/New_York:20240914T120000
DTSTAMP:20240322T090815Z
URL:https://breatheatlanta.us/events/2024-atlanta-black-mens-wellness-day/
SUMMARY:2024 Atlanta Black Men's Wellness Day
DESCRIPTION:In Atlanta\, we're on a mission to save Black Men's lives!  An
  event filled with FREE Health Screenings\, Vendors\, Live Entertainment\,
  and wholesome\, Family-Friendly FUN!\n\nEvent Information:\n\nEvent Name:
  Atlanta Black Men's Wellness Day\n\nOrganizer: The African American Male 
 Wellness Agency\n\nLocation: Friendship Baptist Church\, 80 Walnut St. SW\
 , Atlanta\, GA 30314\, United States\n\nDate and Time: Saturday\, Septembe
 r 14\, 7:00 AM - 12:00 PM EDT.\n\nTicket Price: FREE\n\nGET TICKETS\n\nRef
 und Policy: Contact the organizer for refund requests. Eventbrite's fee is
  nonrefundable.About this Event:\n\nThe Atlanta Black Men's Wellness Day\,
  a dedicated initiative to save Black Men's lives in Atlanta. This event o
 ffers FREE Health Screenings\, Vendors\, Live Entertainment\, and Family-F
 riendly FUN!\n\nEvent Highlights: Date and Time: Saturday\, September 14th
  at 7 AM. FREE Health Screenings: Blood pressure\, glucose\, cholesterol\,
  HIV\, STD/STI\, and prostate cancer screenings for men who may not be see
 ing the doctor regularly. Vendors: Explore various vendors contributing to
  men's wellness. Live Entertainment: Enjoy performances and entertainment 
 throughout the event. Family-Friendly Fun: Engage in activities suitable f
 or the whole family.\n\nOrganizer's Mission: Since 2004\, The African Amer
 ican Male Wellness Agency has been dedicated to saving Black men's lives a
 nd closing the health gap. Through a 5K Walk &amp\; Run awareness campaign
  in over 15 cities\, they spotlight the fact that Black men die on average
  12 years earlier than their white counterparts. With 20 years of experien
 ce\, the AA Wellness Agency aims to help Black men live longer by addressi
 ng preventable diseases.\n\nHealth Focus: The heartbeat of each event is h
 ealth screenings covering blood pressure\, glucose\, cholesterol\, HIV\, S
 TD/STI\, and prostate cancer. The goal is to encourage men to prioritize p
 revention for a longer and healthier life. The mantra is for men to know t
 heir numbers\, stay active\, and visit the doctor annually.\n\nTicket Info
 rmation:\n\nPrice: FREE\n\nRefund Policy: Contact the organizer for refund
  requests. Eventbrite's fee is nonrefundable.\n\n&nbsp\;\n\n
ATTACH;FMTTYPE=image/jpeg:https://breatheatlanta.us/wp-content/uploads/202
 4/03/https___cdn.evbuc_.com_images_670002249_145518722204_1_original.jpeg
CATEGORIES:Wellness Events
LOCATION:Friendship Baptist Church\, 80 Walnut St. SW Atlanta\, GA 30314 Un
 ited States\, GA 30314 United States\, United States\, 30314 \, GA\, Unite
 d States
X-APPLE-STRUCTURED-LOCATION;VALUE=URI;X-ADDRESS=80 Walnut St. SW Atlanta\, 
 GA 30314 United States\, GA 30314 United States\, United States\, 30314 \,
  GA\, United States;X-APPLE-RADIUS=100;X-TITLE=Friendship Baptist Church:g
 eo:0,0
END:VEVENT
BEGIN:VTIMEZONE
TZID:America/New_York
X-LIC-LOCATION:America/New_York
BEGIN:DAYLIGHT
DTSTART:20240310T030000
TZOFFSETFROM:-0500
TZOFFSETTO:-0400
TZNAME:EDT
END:DAYLIGHT
END:VTIMEZONE
END:VCALENDAR