BEGIN:VCALENDAR
VERSION:2.0
PRODID:-//wp-events-plugin.com//7.2.3.1//EN
TZID:America/New_York
X-WR-TIMEZONE:America/New_York
BEGIN:VEVENT
UID:127@breatheatlanta.us
DTSTART;TZID=America/New_York:20240413T120000
DTEND;TZID=America/New_York:20240413T190000
DTSTAMP:20240323T091700Z
URL:https://breatheatlanta.us/events/2024-kidfitstrong-fitness-challenge-a
 tlanta-presented-by-kidfitstrong-usa/
SUMMARY:2024 KIDFITSTRONG FITNESS CHALLENGE ATLANTA PRESENTED BY KIDFITSTRO
 NG USA
DESCRIPTION:\n\n\n\n\n\n\n\n\n\n\n\n\nEngaging in physical activities is ke
 y to KEEPING KIDS ACTIVE AND HEALTHY!\n\nEvent Information:\n\nDate and Ti
 me: Saturday\, April 13\, 12:00 - 7:00 pm EDT\n\nLocation: Piedmont Park\,
  400 Park Drive Northeast\, Atlanta\, GA 30306\, United States\n\nTicket P
 rice: Free\n\n&nbsp\;\n\nGET TICKETS\n\nAbout this Event:The 2024 KIDFITST
 RONG FITNESS CHALLENGE ATLANTA presented by KIDFITSTRONG USA\, dedicated t
 o promoting active and healthy lifestyles for kids. This exciting event of
 fers a variety of activities designed to keep children and families engage
 d and motivated to stay physically fit. From obstacle courses to active ga
 ming fun\, there's something for everyone!\n\nWorkout Session Detail:\n\nD
 uration: 7 hours\n\nActivities Include:\n\nCompletion-based obstacle cours
 e\n\nActive gaming fun for all ages\n\nOn-site programming to inspire a mo
 re active and healthy lifestyle\n\nEssential for Bring:\n\nComfortable ath
 letic attire\n\nWater bottle to stay hydrated\n\nPositive energy and enthu
 siasm for physical activity\n\nParking Option: Parking is available at Pie
 dmont Park.\n\nTicket Price:\n\nGeneral Admission: Free\n\nFAQs:\n\nWhat i
 s the KIDFITSTRONG Fitness Challenge?\n\nIt's the largest mobile fitness e
 vent dedicated to keeping kids active and healthy.\n\nHow do kids particip
 ate?\n\nKids of all ages can demonstrate their physical fitness through a 
 completion-based obstacle course.\n\nWhat other activities are there to do
  at the event?\n\nXtreme gaming\, rides\, food\, and more to inspire an ac
 tive lifestyle.\n\nDo participants have to arrive at noon and stay all day
 ?\n\nNo\, participants can arrive anytime during the event hours and new r
 aces run continually throughout the day.\n\nWeather Policy: The event is a
  LOW-WIND SHINE ONLY event. Please check the website on event day for weat
 her updates.\n\nRegistration: All participants\, including children and ad
 ults\, must register to participate in the event.\n\nVolunteering and Spon
 sorship: For volunteering or sponsorship inquiries\, please contact kidfit
 strongatlanta@kidfitstrong.com.\n\nSpecial Events at Schools: Limited spec
 ial events per school year are available. To request a special event at yo
 ur school\, contact kidfitstrongatlanta@kidfitstrong.com for more informat
 ion.\n\nWaiver: Participants or parents/guardians must agree to assume all
  risks inherent in participation and waive any claims against KIDFITSTRONG
  and its affiliates.\n\n\n\n\n\n\n\n\n\n\n\n\n
ATTACH;FMTTYPE=image/jpeg:https://breatheatlanta.us/wp-content/uploads/202
 4/03/https___cdn.evbuc_.com_images_376665679_303718071768_1_original.jpeg
CATEGORIES:Sports &amp; Fitness Events
LOCATION:Piedmont Park\, 400 Park Drive Northeast Atlanta\, GA 30306 United
  States\, GA \, United States\, 30306 \, GA\, United States
X-APPLE-STRUCTURED-LOCATION;VALUE=URI;X-ADDRESS=400 Park Drive Northeast At
 lanta\, GA 30306 United States\, GA \, United States\, 30306 \, GA\, Unite
 d States;X-APPLE-RADIUS=100;X-TITLE=Piedmont Park:geo:0,0
END:VEVENT
BEGIN:VTIMEZONE
TZID:America/New_York
X-LIC-LOCATION:America/New_York
BEGIN:DAYLIGHT
DTSTART:20240310T030000
TZOFFSETFROM:-0500
TZOFFSETTO:-0400
TZNAME:EDT
END:DAYLIGHT
END:VTIMEZONE
END:VCALENDAR