BEGIN:VCALENDAR
VERSION:2.0
PRODID:-//wp-events-plugin.com//7.2.3.1//EN
TZID:America/New_York
X-WR-TIMEZONE:America/New_York
BEGIN:VEVENT
UID:240@breatheatlanta.us
DTSTART;TZID=America/New_York:20240427T110000
DTEND;TZID=America/New_York:20240427T150000
DTSTAMP:20240409T161415Z
URL:https://breatheatlanta.us/events/2024-mental-health-resource-fair/
SUMMARY:2024 Mental Health Resource Fair
DESCRIPTION:\nFree Mental Health &amp\; Wellness Fair! April 27th in Atlant
 a\nStruggling with mental health? Join the FREE Mental Health &amp\; Welln
 ess Fair hosted by Vice Chair Abdur-Rahman on Saturday\, April 27th (11am-
 3pm) at Greenbriar Mall (Atlanta).\nFocus on Well-being:\nThis event offer
 s resources and activities to support your mental health\, including:\n\n\
 n 	Information &amp\; Support: Connect with local organizations and Fulton
  County departments for mental health resources.\n 	Free Health Screenings
 : Get a snapshot of your physical health and well-being.\n 	Fun Activities
 : Enjoy live DJ\, dance groups\, art activities\, and more with your famil
 y!\n 	Fulton Library Mobile Unit: Explore books on mental health and parti
 cipate in STEAM activities (youth &amp\; adults).\n 	Giveaways: Register f
 or exciting giveaways and prizes.\n\nMay is Mental Health Awareness Month!
 \nThis event aligns with the theme: "Where to Start: Mental Health in a Ch
 anging World." It aims to destigmatize mental health and empower the commu
 nity to prioritize well-being.\nDon't miss out!\n\n\n 	Date: Saturday\, Ap
 ril 27th\n 	Time: 11:00 am - 3:00 pm\n 	Location: Greenbriar Mall parking 
 lot (2841 Greenbriar Pkwy SW\, Atlanta\, GA 30331)\n\nLet's work together 
 to prioritize mental health!\n#MentalHealthAwareness #FultonCounty\n\n\n\n
 BOOK SPOTS\n
ATTACH;FMTTYPE=image/jpeg:https://breatheatlanta.us/wp-content/uploads/202
 4/04/https___cdn.evbuc_.com_images_736805369_775533113833_1_original.jpg
CATEGORIES:Wellness Events
LOCATION:Greenbriar Mall\, 2841 Greenbriar Pkwy SW Atlanta\, GA 30331 Unite
 d States\, GA\, United States \, 30331\, GA\, United States
X-APPLE-STRUCTURED-LOCATION;VALUE=URI;X-ADDRESS=2841 Greenbriar Pkwy SW Atl
 anta\, GA 30331 United States\, GA\, United States \, 30331\, GA\, United 
 States;X-APPLE-RADIUS=100;X-TITLE=Greenbriar Mall:geo:0,0
END:VEVENT
BEGIN:VTIMEZONE
TZID:America/New_York
X-LIC-LOCATION:America/New_York
BEGIN:DAYLIGHT
DTSTART:20240310T030000
TZOFFSETFROM:-0500
TZOFFSETTO:-0400
TZNAME:EDT
END:DAYLIGHT
END:VTIMEZONE
END:VCALENDAR