BEGIN:VCALENDAR
VERSION:2.0
PRODID:-//wp-events-plugin.com//7.2.3.1//EN
TZID:America/New_York
X-WR-TIMEZONE:America/New_York
BEGIN:VEVENT
UID:507@breatheatlanta.us
DTSTART;TZID=America/New_York:20241017T183000
DTEND;TZID=America/New_York:20241017T210000
DTSTAMP:20240928T065906Z
URL:https://breatheatlanta.us/events/2024-murder-mystery-dinner/
SUMMARY:2024 Murder Mystery Dinner
DESCRIPTION:On the enchanting evening of Thursday\, October 17th\, under th
 e glow of a full moon\, guests are invited to immerse themselves in an eve
 ning of suspense and intrigue at the 2024 Murder Mystery Dinner. This uniq
 ue event promises to be a thrilling experience as attendees work together 
 to solve a captivating mystery.\n\nHosted at Petite Violette\, the evening
  features an all-star production team\, cast\, and crew from the acclaimed
  Agatha's: A Taste of Mystery. This interactive murder mystery dinner offe
 rs an engaging blend of entertainment and fine dining\, making it an unfor
 gettable night for all involved.\n\nGuests will indulge in a sumptuous fou
 r-course meal\, expertly prepared to delight the palate\, complemented by 
 a glass of wine to enhance the dining experience. The combination of a del
 icious meal and an engrossing show sets the stage for a memorable evening 
 filled with laughter\, suspense\, and camaraderie.\n\nImportantly\, the pr
 oceeds from this event will directly benefit Planned PEThood\, supporting 
 their vital programs aimed at aiding cats and dogs across Georgia. These i
 nitiatives include low-cost spay and neuter services\, wellness check-ups\
 , rescue and adoption efforts\, and outreach programs in underserved areas
 .\n\nJoin this incredible gathering not only for an evening of mystery and
  culinary delight but also to contribute to a worthy cause that makes a di
 fference in the lives of countless pets in need. This murder mystery dinne
 r promises to be a night of fun\, flavors\, and philanthropy that attendee
 s will cherish long after the final clue is uncovered.\n\nGET TICKETS\n
ATTACH;FMTTYPE=image/jpeg:https://breatheatlanta.us/wp-content/uploads/202
 4/09/2024-Murder-Mystery-Dinner.png
CATEGORIES:Things To Do
LOCATION:Petite Violette\, 2948 Clairmont Road\, NE Atlanta\, Atlanta\, Geo
 rgia\, 30329\, GA\, United States
X-APPLE-STRUCTURED-LOCATION;VALUE=URI;X-ADDRESS=2948 Clairmont Road\, NE At
 lanta\, Atlanta\, Georgia\, 30329\, GA\, United States;X-APPLE-RADIUS=100;
 X-TITLE=Petite Violette:geo:0,0
END:VEVENT
BEGIN:VTIMEZONE
TZID:America/New_York
X-LIC-LOCATION:America/New_York
BEGIN:DAYLIGHT
DTSTART:20240310T030000
TZOFFSETFROM:-0500
TZOFFSETTO:-0400
TZNAME:EDT
END:DAYLIGHT
END:VTIMEZONE
END:VCALENDAR