BEGIN:VCALENDAR
VERSION:2.0
PRODID:-//wp-events-plugin.com//7.2.3.1//EN
TZID:America/New_York
X-WR-TIMEZONE:America/New_York
BEGIN:VEVENT
UID:151@breatheatlanta.us
DTSTART;TZID=America/New_York:20240427T100000
DTEND;TZID=America/New_York:20240427T190000
DTSTAMP:20240326T121600Z
URL:https://breatheatlanta.us/events/2024-taliah-waajid-world-natural-hair
 -health-beauty/
SUMMARY:2024 Taliah Waajid World Natural Hair\, Health & Beauty
DESCRIPTION:Event Information:\n\nCelebrate natural beauty\, wellness\, and
  empowerment at the Taliah Waajid World Natural Hair &amp\; Healthy Lifest
 yle Event. Join us for a transformative experience filled with workshops\,
  vendors\, and community connections!\n\n 	Date and Time: Saturday\, April
  27 · 10am - 7pm EDT\n 	Location: Georgia International Convention Center
 \, 2000 Convention Center Concourse Atlanta\, GA 30337 United States\n\nAb
 out this Event:\n\nJoin us at the Taliah Waajid World Natural Hair &amp\; 
 Healthy Lifestyle Event\, a celebration of natural beauty\, wellness\, and
  empowerment. Discover the latest trends\, connect with like-minded indivi
 duals\, and embrace your unique beauty at Flourish!\n\nTicket Information:
 \n\n 	Refund Policy: No Refunds\n 	Ticket prices and purchase options avai
 lable on the event website.\n\n&nbsp\;\n\nGET TICKETS\n\nWorkout Session D
 etail:\n\nThe event includes:\n\n 	250+ Black Owned Businesses\n 	40+ work
 shops on hair care\, fashion\, fitness\, health &amp\; wellness\n 	Vendor 
 shops\, beauty services\, DIY workshops\, live entertainment\, and more!\n
 \nEssential for Bring:\n\n 	Positive vibes and open mind\n 	Comfortable at
 tire for a full day of exploration and celebration\n 	Personal items for s
 hopping and networking\n\nParking Option:\n\nAvailable at Georgia Internat
 ional Convention Center.\n\nExperience a transformative celebration of nat
 ural beauty and wellness at the Taliah Waajid World Natural Hair &amp\; He
 althy Lifestyle Event!
ATTACH;FMTTYPE=image/jpeg:https://breatheatlanta.us/wp-content/uploads/202
 4/03/World-Natural-Hair.jpg
CATEGORIES:Wellness Events
LOCATION:Georgia International Convention Center\, 2000 Convention Center C
 oncourse Atlanta\, GA 30337 United States\, Atlanta\, GA\, 30337\, GA\, Un
 ited States
X-APPLE-STRUCTURED-LOCATION;VALUE=URI;X-ADDRESS=2000 Convention Center Conc
 ourse Atlanta\, GA 30337 United States\, Atlanta\, GA\, 30337\, GA\, Unite
 d States;X-APPLE-RADIUS=100;X-TITLE=Georgia International Convention Cente
 r:geo:0,0
END:VEVENT
BEGIN:VTIMEZONE
TZID:America/New_York
X-LIC-LOCATION:America/New_York
BEGIN:DAYLIGHT
DTSTART:20240310T030000
TZOFFSETFROM:-0500
TZOFFSETTO:-0400
TZNAME:EDT
END:DAYLIGHT
END:VTIMEZONE
END:VCALENDAR