BEGIN:VCALENDAR
VERSION:2.0
PRODID:-//wp-events-plugin.com//7.2.3.1//EN
TZID:America/New_York
X-WR-TIMEZONE:America/New_York
BEGIN:VEVENT
UID:431@breatheatlanta.us
DTSTART;TZID=America/New_York:20240914T100000
DTEND;TZID=America/New_York:20240914T140000
DTSTAMP:20240903T141443Z
URL:https://breatheatlanta.us/events/2nd-annual-community-health-and-welln
 ess-fair/
SUMMARY:2nd Annual Community Health and Wellness Fair
DESCRIPTION:Mark your calendars for the 2nd Annual Community Health &amp\; 
 Wellness Fair\, happening on Saturday\, September 14\, 2024\, from 10:00 A
 M to 2:00 PM at the Gallery at Hood Street\, located at 136 Hood Street\, 
 McDonough\, GA.\n\nThis vibrant event is set to bring together over 30 div
 erse vendors\, all focused on promoting health and well-being within the c
 ommunity. Whether you’re looking to explore the latest in wellness produ
 cts\, get health screenings\, or simply learn more about maintaining a hea
 lthy lifestyle\, this fair offers something for everyone.\n\nDon't miss th
 is opportunity to connect with local health experts\, discover valuable re
 sources\, and engage in a day dedicated to your health and wellness. Come 
 out and join us for an inspiring and informative experience that aims to e
 mpower our community to live healthier\, happier lives.\n\nSave the date\,
  and we look forward to seeing you there!\n\nGET TICKETS\n
ATTACH;FMTTYPE=image/jpeg:https://breatheatlanta.us/wp-content/uploads/202
 4/09/2nd-Annual-Community-Health-and-Wellness-Fair.jpg
CATEGORIES:Nature Events,Things To Do,Wellness Events
LOCATION:At Gallery at Hood Street\, 136 Hood Street\, McDonough\, Atlanta\
 , Georgia\, 30253\, GA\, United States
X-APPLE-STRUCTURED-LOCATION;VALUE=URI;X-ADDRESS=136 Hood Street\, McDonough
 \, Atlanta\, Georgia\, 30253\, GA\, United States;X-APPLE-RADIUS=100;X-TIT
 LE=At Gallery at Hood Street:geo:0,0
END:VEVENT
BEGIN:VTIMEZONE
TZID:America/New_York
X-LIC-LOCATION:America/New_York
BEGIN:DAYLIGHT
DTSTART:20240310T030000
TZOFFSETFROM:-0500
TZOFFSETTO:-0400
TZNAME:EDT
END:DAYLIGHT
END:VTIMEZONE
END:VCALENDAR