BEGIN:VCALENDAR
VERSION:2.0
PRODID:-//wp-events-plugin.com//7.2.3.1//EN
TZID:America/New_York
X-WR-TIMEZONE:America/New_York
BEGIN:VEVENT
UID:292@breatheatlanta.us
DTSTART;TZID=America/New_York:20240615T120000
DTEND;TZID=America/New_York:20240615T170000
DTSTAMP:20240525T180112Z
URL:https://breatheatlanta.us/events/2nd-annual-juneteenth-pop-up-shop/
SUMMARY:2nd Annual Juneteenth Pop-Up-Shop
DESCRIPTION:Celebrate freedom and support Black-owned businesses at the 2nd
  Annual Juneteenth Pop-Up Shop!\n\nJoin us at 617 Allen Dr for a day of ce
 lebration and community engagement. The event will feature an array of ven
 dors offering unique products\, delectable food from local food trucks\, a
 nd live music to set the perfect festive atmosphere. This is an excellent 
 opportunity to support local businesses and discover one-of-a-kind treasur
 es.\nEvent Highlights\n\n 	Diverse Vendors: Explore a variety of booths of
 fering unique and handcrafted products.\n 	Delicious Food: Savor mouthwate
 ring dishes from some of the best food trucks in town.\n 	Live Music: Enjo
 y live performances that will keep the celebration lively and energetic.\n
 \nWhy Attend?\nThis fun-filled day honors Juneteenth and showcases Black e
 xcellence\, making it a perfect occasion to celebrate freedom and communit
 y. Don't miss out on this vibrant event that brings together local busines
 ses and the community in a spirit of unity and celebration.\nSee You There
 !\nMark your calendars and join us at the 2nd Annual Juneteenth Pop-Up Sho
 p. Celebrate\, support\, and enjoy a day dedicated to freedom and Black ex
 cellence.\n\nGET TICKETS\n
ATTACH;FMTTYPE=image/jpeg:https://breatheatlanta.us/wp-content/uploads/202
 4/05/2nd-Annual-Juneteenth-Pop-Up-Shop.jpg
LOCATION:617 Allen Dr\, 617 Allen Drive Riverdale\, Atlanta\, Georgia\, 302
 74\, GA\, United States
X-APPLE-STRUCTURED-LOCATION;VALUE=URI;X-ADDRESS=617 Allen Drive Riverdale\,
  Atlanta\, Georgia\, 30274\, GA\, United States;X-APPLE-RADIUS=100;X-TITLE
 =617 Allen Dr:geo:0,0
END:VEVENT
BEGIN:VTIMEZONE
TZID:America/New_York
X-LIC-LOCATION:America/New_York
BEGIN:DAYLIGHT
DTSTART:20240310T030000
TZOFFSETFROM:-0500
TZOFFSETTO:-0400
TZNAME:EDT
END:DAYLIGHT
END:VTIMEZONE
END:VCALENDAR