BEGIN:VCALENDAR
VERSION:2.0
PRODID:-//wp-events-plugin.com//7.2.3.1//EN
TZID:America/New_York
X-WR-TIMEZONE:America/New_York
BEGIN:VEVENT
UID:139@breatheatlanta.us
DTSTART;TZID=America/New_York:20240518T100000
DTEND;TZID=America/New_York:20240519T160000
DTSTAMP:20240322T200254Z
URL:https://breatheatlanta.us/events/2nd-annual-mental-health-retreat-2/
SUMMARY:2nd Annual Mental Health Retreat
DESCRIPTION:\nEscape to Tranquility: A Healing Retreat for Reconnection\nYe
 arning for a haven of peace and rejuvenation? The Orchid Event Venue invit
 es you to embark on a transformative Healing Retreat\, a journey designed 
 to guide you towards a calmer\, more balanced you.\nStep away from the dai
 ly grind and immerse yourself in a tranquil\, upscale setting. This retrea
 t offers a much-needed respite from the constant stressors and triggers th
 at disrupt your well-being.\nImagine:\n\n\n 	A Serene Space: Escape the hu
 stle and bustle of everyday life and enter a world of serenity. The Orchid
  Event Venue's elegant and calming atmosphere sets the stage for your heal
 ing journey.\n 	Re-Centering Your Mind: Through guided meditations and min
 dfulness practices\, learn to quiet the constant mental chatter and cultiv
 ate a sense of inner peace. Rediscover focus and clarity as you reconnect 
 with your inner self.\n 	Breaking Free from Stressors: Uncover the root ca
 uses of your stress and identify the triggers that disrupt your emotional 
 balance. This retreat equips you with tools and techniques to manage stres
 s effectively and build resilience.\n\nThis retreat is more than just rela
 xation\; it's a holistic approach to healing. Whether you're struggling wi
 th anxiety\, overwhelmed\, or simply seeking a deeper sense of well-being\
 , this experience can be transformative.\nWhat to expect:\n\n\n 	Guided Me
 ditations: Connect with your breath and learn to quiet the mind through ge
 ntle meditation practices.\n 	Stress Management Techniques: Discover pract
 ical tools and exercises to break free from the cycle of stress and cultiv
 ate emotional resilience.\n 	Mindfulness Workshops: Develop your awareness
  of the present moment and learn to navigate life with greater clarity and
  purpose.\n 	Relaxation Techniques: Embark on a journey of deep relaxation
  through calming activities and practices.\n 	Supportive Community: Connec
 t with like-minded individuals who are also seeking a path towards healing
  and well-being.\n\nThe Healing Retreat at the Orchid Event Venue offers t
 he perfect opportunity to:\n\n\n 	Reclaim your inner peace.\n 	Relieve str
 ess and anxiety.\n 	Gain clarity and focus.\n 	Develop effective stress ma
 nagement tools.\n 	Connect with your inner self.\n\nEmbrace the chance to 
 hit the pause button. Invest in your well-being and embark on a transforma
 tive journey towards healing and balance.\nJoin us at the Orchid Event Ven
 ue for this life-changing experience. Registration is limited\, so don't w
 ait!\n\n\n\n\nBUY TICKETS\n\n
ATTACH;FMTTYPE=image/jpeg:https://breatheatlanta.us/wp-content/uploads/202
 4/03/https___cdn.evbuc_.com_images_666218549_1953755539233_1_original.png
CATEGORIES:Wellness Events
LOCATION:3565 Austell Road\, 3565 Austell Road Ste 1051 (In the Austell Far
 mer's Market Plaza) Marietta\, GA 30008 United States\, GA\, United States
 \, 30008\, GA\, United Kingdom
X-APPLE-STRUCTURED-LOCATION;VALUE=URI;X-ADDRESS=3565 Austell Road Ste 1051 
 (In the Austell Farmer's Market Plaza) Marietta\, GA 30008 United States\,
  GA\, United States\, 30008\, GA\, United Kingdom;X-APPLE-RADIUS=100;X-TIT
 LE=3565 Austell Road:geo:0,0
END:VEVENT
BEGIN:VTIMEZONE
TZID:America/New_York
X-LIC-LOCATION:America/New_York
BEGIN:DAYLIGHT
DTSTART:20240310T030000
TZOFFSETFROM:-0500
TZOFFSETTO:-0400
TZNAME:EDT
END:DAYLIGHT
END:VTIMEZONE
END:VCALENDAR