BEGIN:VCALENDAR
VERSION:2.0
PRODID:-//wp-events-plugin.com//7.2.3.1//EN
TZID:America/New_York
X-WR-TIMEZONE:America/New_York
BEGIN:VEVENT
UID:138@breatheatlanta.us
DTSTART;TZID=America/New_York:20240427T090000
DTEND;TZID=America/New_York:20240427T150000
DTSTAMP:20240322T190349Z
URL:https://breatheatlanta.us/events/3rd-annual-discover-health-wellness-f
 air/
SUMMARY:3rd Annual Discover Health & Wellness Fair 2024
DESCRIPTION:\nDiscover Your Path to Well-being: The 3rd Annual Discover Hea
 lth &amp\; Wellness Fair!\nEmpower yourself to take charge of your health!
  Join us for the 3rd Annual Discover Health &amp\; Wellness Fair\, a vibra
 nt in-person event designed to ignite your wellness journey. Mark your cal
 endars for [Date of Event] and get ready to explore a world of possibiliti
 es at 781 Athens Hwy.\nThis year's fair promises something for everyone. W
 hether you're a seasoned health enthusiast or just starting your journey\,
  you'll find a wealth of resources and activities to spark your well-being
  goals.\nExplore a Diverse Expo:\n\n\n 	Informative Vendors: Mingle with a
  diverse array of vendors showcasing a wide range of health and wellness p
 roducts and services. Dive into the world of nutrition\, fitness\, mental 
 health\, and holistic practices.\n 	Live Healthy Gwinnett Workshops: Gain 
 valuable insights through a series of informative workshops led by Live He
 althy Gwinnett. These sessions will equip you with practical knowledge and
  tools to elevate your health and well-being.\n 	Family Fun Zone: Keep the
  little ones entertained! While you explore the fair\, your kids can unlea
 sh their energy in the exciting bounce house area.\n\nFree Screenings and 
 Services:\nThe Discover Health &amp\; Wellness Fair goes beyond product sh
 owcases. We're committed to providing you with the tools you need to monit
 or your health. Take advantage of these free services:\n\n\n 	Health Scree
 nings: Gain valuable insights into your current health status through free
  screenings for vision\, prostate cancer (PSA blood draw only)\, hearing\,
  blood pressure\, and glucose.\n 	Free Hair Cuts: Looking for a fresh new 
 look? Enjoy free hair cuts (age 5 and up) courtesy of participating vendor
 s. (subject to availability)\n 	CPR Demonstrations: Be prepared for any em
 ergency. Learn life-saving skills through CPR demonstrations offered throu
 ghout the day.\n 	Covid-19 Vaccine Information: Get the latest updates and
  information about the Covid-19 vaccine. Ask questions and address any con
 cerns you might have.\n\nProstate Cancer Screening Registration:\nMen over
  40 (or 35 with a family history) are encouraged to register for the free 
 prostate cancer screening (PSA blood draw only). Please note the following
  registration requirements:\n\n\n 	Must be over the age of 40-45 or starti
 ng at 35 years old if there is a family history of prostate cancer.\n 	No 
 PSA within 12 months.\n 	No abnormal PSA in the past.\n\nDon't miss this o
 pportunity to invest in your health and well-being!\nJoin us at the 3rd An
 nual Discover Health &amp\; Wellness Fair and embark on a transformative j
 ourney towards a healthier\, happier you!\n\n\n\n\nBOOK SPOTS\n\n
ATTACH;FMTTYPE=image/jpeg:https://breatheatlanta.us/wp-content/uploads/202
 4/03/https___cdn.evbuc_.com_images_712623919_37435573422_1_original.jpg
CATEGORIES:Wellness Events
LOCATION:781 Athens Hwy\, 781 Athens Highway Loganville\,\, GA\,   United S
 tates\,  30052\, GA\, United States
X-APPLE-STRUCTURED-LOCATION;VALUE=URI;X-ADDRESS=781 Athens Highway Loganvil
 le\,\, GA\,   United States\,  30052\, GA\, United States;X-APPLE-RADIUS=1
 00;X-TITLE=781 Athens Hwy:geo:0,0
END:VEVENT
BEGIN:VTIMEZONE
TZID:America/New_York
X-LIC-LOCATION:America/New_York
BEGIN:DAYLIGHT
DTSTART:20240310T030000
TZOFFSETFROM:-0500
TZOFFSETTO:-0400
TZNAME:EDT
END:DAYLIGHT
END:VTIMEZONE
END:VCALENDAR