BEGIN:VCALENDAR
VERSION:2.0
PRODID:-//wp-events-plugin.com//7.2.3.1//EN
TZID:America/New_York
X-WR-TIMEZONE:America/New_York
BEGIN:VEVENT
UID:719@breatheatlanta.us
DTSTART;TZID=America/New_York:20241109T110000
DTEND;TZID=America/New_York:20241109T170000
DTSTAMP:20241025T102102Z
URL:https://breatheatlanta.us/events/3rd-annual-suwanee-chili-cook-off-mus
 ic-festival/
SUMMARY:3rd Annual Suwanee Chili Cook Off & Music Festival
DESCRIPTION:The 3rd Annual Suwanee Chili Cook-Off &amp\; Music Festival is 
 back\, bringing the community together for a day of delicious competition\
 , live entertainment\, and family fun. Held as a fundraiser for Project Gr
 een\, this lively festival supports a local children’s nonprofit dedicat
 ed to providing scholarships for summer camps\, school excursions\, and ed
 ucational programs\, helping young people explore\, learn\, and grow.\n\nT
 his year’s festival promises a flavorful lineup\, including a Chili Cook
 -Off where participants can sample a variety of chili recipes\, vote in th
 e People’s Choice awards\, and witness a judged competition crowning the
  best in Traditional Red and Homestyle Chili categories. But you don’t h
 ave to be a pro to join the challenge—organizers are looking for amateur
  chefs\, local fire and police stations\, teams\, and even young cooks to 
 step up to the stove. Winners will earn the ultimate bragging rights and c
 reate lasting memories with friends and teammates.\n\nAlongside the chili 
 festivities\, attendees can explore local and regional vendor booths\, bro
 wse a vibrant artist market\, and enjoy activities at the Family Fun Zone 
 designed for all ages. Food trucks will be on hand to serve up tasty alter
 natives for non-chili lovers\, and live music from local and regional band
 s will set a festive tone throughout the event.\n\nWhether you're a chili 
 enthusiast\, a family looking for a fun day out\, or just here to support 
 a worthy cause\, the Suwanee Chili Cook-Off &amp\; Music Festival offers s
 omething for everyone.\n\nGET TICKETS\n
ATTACH;FMTTYPE=image/jpeg:https://breatheatlanta.us/wp-content/uploads/202
 4/10/3rd-Annual-Suwanee-Chili-Cook-Off-Music-Festival.jpg
CATEGORIES:Food &amp; Drink Events,Things To Do
LOCATION:Suwanee Town Center Park\, 330 Town Center Avenue\, Suwanee\, Atla
 nta\, Georgia\, 30024\,  GA\, United States
X-APPLE-STRUCTURED-LOCATION;VALUE=URI;X-ADDRESS=330 Town Center Avenue\, Su
 wanee\, Atlanta\, Georgia\, 30024\,  GA\, United States;X-APPLE-RADIUS=100
 ;X-TITLE=Suwanee Town Center Park:geo:0,0
END:VEVENT
BEGIN:VTIMEZONE
TZID:America/New_York
X-LIC-LOCATION:America/New_York
BEGIN:STANDARD
DTSTART:20241103T010000
TZOFFSETFROM:-0400
TZOFFSETTO:-0500
TZNAME:EST
END:STANDARD
END:VTIMEZONE
END:VCALENDAR