BEGIN:VCALENDAR
VERSION:2.0
PRODID:-//wp-events-plugin.com//7.2.3.1//EN
TZID:America/New_York
X-WR-TIMEZONE:America/New_York
BEGIN:VEVENT
UID:672@breatheatlanta.us
DTSTART;TZID=America/New_York:20241025T173000
DTEND;TZID=America/New_York:20241025T193000
DTSTAMP:20241018T111817Z
URL:https://breatheatlanta.us/events/4th-friday-networking-distillery-of-m
 odern-art-with-culinary-adaption/
SUMMARY:4th Friday Networking @ Distillery of Modern Art with Culinary Adap
 tion
DESCRIPTION:The OUT Georgia Business Alliance is excited to host the 4th Fr
 iday Networking event on Friday\, October 25\, at the Distillery of Modern
  Art. This special occasion will feature delightful sips sponsored by Disc
 over DeKalb and will celebrate Elisa Vales of Culinary Adaptation\, known 
 for her recent appearance on the food competition show Top Vegan. This fal
 l-themed networking event promises to be both fun and engaging!\n\n4th Fri
 day Networking events are held monthly at various OUT Georgia member locat
 ions\, creating a welcoming environment for LGBTQIA+ professionals and all
 ies. Attendees can expect an evening filled with vibrant conversations\, m
 eaningful connections\, and a strong sense of community. Whether individua
 ls are looking to expand their professional networks or simply unwind afte
 r a busy week\, this gathering serves as the perfect opportunity to relax\
 , connect\, and collaborate.\n\nGuests are encouraged to come prepared to 
 mingle\, exchange business cards\, and enjoy delicious food paired with in
 novative culinary creations. As an added bonus\, attendees are welcome to 
 wear costumes to kick off the Halloween weekend\, adding an extra layer of
  fun to the evening.\n\nDon't miss out on this exciting opportunity to con
 nect with like-minded individuals in a dynamic and supportive atmosphere. 
 Join the OUT Georgia Business Alliance for a night of networking\, communi
 ty building\, and celebration!\n\nGET TICKETS\n
ATTACH;FMTTYPE=image/jpeg:https://breatheatlanta.us/wp-content/uploads/202
 4/10/4th-Friday-Networking-@-Distillery-of-Modern-Art-with-Culinary-Adapti
 on.jpg
CATEGORIES:Things To Do
LOCATION:Distillery of Modern Art\, 2197 Irvindale Way Chamblee\, Atlanta\,
  Georgia\, 30341\,  GA\, United States
X-APPLE-STRUCTURED-LOCATION;VALUE=URI;X-ADDRESS=2197 Irvindale Way Chamblee
 \, Atlanta\, Georgia\, 30341\,  GA\, United States;X-APPLE-RADIUS=100;X-TI
 TLE=Distillery of Modern Art:geo:0,0
END:VEVENT
BEGIN:VTIMEZONE
TZID:America/New_York
X-LIC-LOCATION:America/New_York
BEGIN:DAYLIGHT
DTSTART:20240310T030000
TZOFFSETFROM:-0500
TZOFFSETTO:-0400
TZNAME:EDT
END:DAYLIGHT
END:VTIMEZONE
END:VCALENDAR