BEGIN:VCALENDAR
VERSION:2.0
PRODID:-//wp-events-plugin.com//7.2.3.1//EN
TZID:America/New_York
X-WR-TIMEZONE:America/New_York
BEGIN:VEVENT
UID:661@breatheatlanta.us
DTSTART;TZID=America/New_York:20241026T094500
DTEND;TZID=America/New_York:20241026T103000
DTSTAMP:20241018T093410Z
URL:https://breatheatlanta.us/events/5th-annual-barre3-brunch-boos/
SUMMARY:5th Annual Barre3\, Brunch\, & Boos
DESCRIPTION:Get ready to celebrate the spooky season with a fitness twist a
 t the 5th Annual Barre3\, Brunch\, &amp\; Boos event! Join us on Saturday\
 , October 26th at TWO Urban Licks for a morning filled with energy\, movem
 ent\, and post-workout treats.\nWhat to Expect:\nKick off the Halloween we
 ekend with a 45-minute full-body Barre3 workout at 9:45 AM. This low-impac
 t class will guide you through a blend of cardio\, strength conditioning\,
  mobility training\, and mindfulness—perfect for all fitness levels\, wh
 ether you're a beginner or a seasoned enthusiast. Whether you’re looking
  to boost your activity\, cross-train\, or ease back into fitness after a 
 break or injury\, Barre3 provides the perfect balance to get your heart pu
 mping and muscles engaged!\nDifficulty Level:\nThis class is tailored for 
 all fitness levels—from those just starting out to fitness veterans. It'
 s designed to help you stay active\, improve your mobility\, and build str
 ength in a supportive and fun environment.\nWhen and Where:\n\n 	Time: Arr
 ive 15 minutes early to get settled and connect with your instructor. Clas
 s begins promptly at 9:45 AM.\n 	Location: TWO Urban Licks\, with easy acc
 ess via The Beltline or the restaurant's free parking lot. You can walk in
  from the patio if you're coming from the Beltline.\n\nWhat to Bring:\n\n 
 	Water bottle and towel to stay hydrated and fresh.\n 	Yoga mat for your w
 orkout session.\n 	Weights (2-6 lbs) if you have them\, but they’re opti
 onal.\n\nPost-Workout Celebration:\nAfter class\, treat yourself to a comp
 limentary Bloody Mary or Mimosa\, plus enjoy 10% off brunch at TWO Urban L
 icks. Don’t forget to make a reservation for brunch to ensure your spot 
 at the table!\n\nWhether you're joining for the workout\, the fun\, or the
  fabulous post-class brunch\, this event promises a perfect mix of fitness
  and festivity. Come dressed in your favorite workout gear\, bring a frien
 d\, and let's sweat it out before indulging in delicious bites and drinks!
 \n\nGET TICKETS\n
ATTACH;FMTTYPE=image/jpeg:https://breatheatlanta.us/wp-content/uploads/202
 4/10/5th-Annual-Barre3-Brunch-Boos.jpg
CATEGORIES:Sports &amp; Fitness Events,Things To Do,Wellness Events
LOCATION:TWO urban licks\, 820 Ralph McGill Boulevard Northeast Atlanta\,\,
  Atlanta\, Georgia\, 30306\,  GA\, United States
X-APPLE-STRUCTURED-LOCATION;VALUE=URI;X-ADDRESS=820 Ralph McGill Boulevard 
 Northeast Atlanta\,\, Atlanta\, Georgia\, 30306\,  GA\, United States;X-AP
 PLE-RADIUS=100;X-TITLE=TWO urban licks:geo:0,0
END:VEVENT
BEGIN:VTIMEZONE
TZID:America/New_York
X-LIC-LOCATION:America/New_York
BEGIN:DAYLIGHT
DTSTART:20240310T030000
TZOFFSETFROM:-0500
TZOFFSETTO:-0400
TZNAME:EDT
END:DAYLIGHT
END:VTIMEZONE
END:VCALENDAR