BEGIN:VCALENDAR
VERSION:2.0
PRODID:-//wp-events-plugin.com//7.2.3.1//EN
TZID:America/New_York
X-WR-TIMEZONE:America/New_York
BEGIN:VEVENT
UID:622@breatheatlanta.us
DTSTART;TZID=America/New_York:20241102T090000
DTEND;TZID=America/New_York:20241102T100000
DTSTAMP:20241014T094429Z
URL:https://breatheatlanta.us/events/6799/
SUMMARY:Yoga with Melissa!
DESCRIPTION:\n\n\n\n\n"Yoga with Melissa offers a calming and foundational 
 yoga class designed for beginners and those seeking a gentle practice. Thi
 s session focuses on slow-paced stretching\, accompanied by easy-to-follow
  breathing exercises\, creating a serene environment perfect for learning 
 the basics of yoga. Participants will have the opportunity to explore begi
 nner-level poses\, develop relaxation techniques\, and build confidence in
  their yoga practice. The class emphasizes comfort and mindfulness\, makin
 g it an ideal introduction to yoga for those looking to ease into the prac
 tice or unwind in a stress-free setting."\n\n\n\n\n\n\n\n\n\n&nbsp\;\n\n\n
 \nGET TICKETS\n\n\n\n\n
ATTACH;FMTTYPE=image/jpeg:https://breatheatlanta.us/wp-content/uploads/202
 4/10/Yoga.jpeg
CATEGORIES:Yoga Events
LOCATION:Energy Works ATL\, 1215 Hightower Trail Building D\, \, Suite 101 
 Atlanta\, Georgia\, 30350 \, GA\, United States
X-APPLE-STRUCTURED-LOCATION;VALUE=URI;X-ADDRESS=1215 Hightower Trail Buildi
 ng D\, \, Suite 101 Atlanta\, Georgia\, 30350 \, GA\, United States;X-APPL
 E-RADIUS=100;X-TITLE=Energy Works ATL:geo:0,0
END:VEVENT
BEGIN:VTIMEZONE
TZID:America/New_York
X-LIC-LOCATION:America/New_York
BEGIN:DAYLIGHT
DTSTART:20240310T030000
TZOFFSETFROM:-0500
TZOFFSETTO:-0400
TZNAME:EDT
END:DAYLIGHT
END:VTIMEZONE
END:VCALENDAR