BEGIN:VCALENDAR
VERSION:2.0
PRODID:-//wp-events-plugin.com//7.2.3.1//EN
TZID:America/New_York
X-WR-TIMEZONE:America/New_York
BEGIN:VEVENT
UID:490@breatheatlanta.us
DTSTART;TZID=America/New_York:20241026T173000
DTEND;TZID=America/New_York:20241026T230000
DTSTAMP:20240925T110755Z
URL:https://breatheatlanta.us/events/7-mile-brewery-run-presented-by-monda
 y-night-brewing-and-runtheatl/
SUMMARY:7-Mile Brewery Run Presented By Monday Night Brewing and #RunTheATL
DESCRIPTION:The 7-Mile Brewery Run\, hosted by Monday Night Brewing in coll
 aboration with #RunTheATL\, is set to be a lively event. Participants will
  gather at Monday Night Brewing's West Midtown location starting at 4:30 P
 M\, with the race officially kicking off at 5:30 PM.\n\nThe race will foll
 ow a carefully planned route along the Westside Belt Connector and Westsid
 e Beltline\, ensuring participants a safe journey to Monday Night Garage. 
 Upon reaching the finish line\, each runner will be rewarded with a compli
 mentary beer. Afterward\, participants can enjoy additional drinks and foo
 d\, available for purchase at Monday Night Garage\, as they relax and shar
 e laughs about the fun experience.\n\nThe event is inclusive of ruckers an
 d walkers\, with volunteers and sweepers positioned along the route to ens
 ure no one is left behind. For convenience\, attendees are encouraged to p
 ark at Monday Night Garage\, use Uber or a Bird scooter to travel to the s
 tart line at Monday Night Brewing\, and then enjoy the run back to their c
 ar. Alternatively\, they can Uber to the start line\, complete the race\, 
 and after responsibly enjoying some beverages\, use Uber for the trip home
 . The event offers flexibility\, with safety and enjoyment at its core.\n\
 nGET TICKETS\n
ATTACH;FMTTYPE=image/jpeg:https://breatheatlanta.us/wp-content/uploads/202
 4/09/7-Mile-Brewery-Run-Presented-By-Monday-Night-Brewing-and-RunTheATL.jp
 g
CATEGORIES:Sports &amp; Fitness Events
LOCATION:Monday Night Brewing - West Midtown\, 670 Trabert Avenue\, Northwe
 st Atlanta\, Georgia\, 30318\, GA\, United States
X-APPLE-STRUCTURED-LOCATION;VALUE=URI;X-ADDRESS=670 Trabert Avenue\, Northw
 est Atlanta\, Georgia\, 30318\, GA\, United States;X-APPLE-RADIUS=100;X-TI
 TLE=Monday Night Brewing - West Midtown:geo:0,0
END:VEVENT
BEGIN:VTIMEZONE
TZID:America/New_York
X-LIC-LOCATION:America/New_York
BEGIN:DAYLIGHT
DTSTART:20240310T030000
TZOFFSETFROM:-0500
TZOFFSETTO:-0400
TZNAME:EDT
END:DAYLIGHT
END:VTIMEZONE
END:VCALENDAR