BEGIN:VCALENDAR
VERSION:2.0
PRODID:-//wp-events-plugin.com//7.2.3.1//EN
TZID:America/New_York
X-WR-TIMEZONE:America/New_York
BEGIN:VEVENT
UID:284@breatheatlanta.us
DTSTART;TZID=America/New_York:20240622T070000
DTEND;TZID=America/New_York:20240622T230000
DTSTAMP:20240525T085534Z
URL:https://breatheatlanta.us/events/a-midsummer-nights-dream-ball/
SUMMARY:A Midsummer Night's Dream Ball
DESCRIPTION:"Are you sure that we are awake? It seems to me that yet we sle
 ep\, we dream." - William Shakespeare\, A Midsummer Night's Dream\n\nCeleb
 rate fantasy and the Summer Solstice with an enchanted evening at the 2024
  Midsummer Night's Dream Ball. Dance among fairies and create magical memo
 ries with friends\, old and new\, at this exclusive 18+ event.\nEvent High
 lights\nTickets Include:\n\n 	Heavy Hors d'oeuvres: Vegetarian and vegan o
 ptions available.\n 	Unlimited Non-Alcoholic Drinks: Plus access to a full
  cash bar.\n 	Themed Photo Opportunities: Capture the magic of the night.\
 n 	Professional Photography: Candid shots with access to the full album a 
 few weeks post-event.\n 	Special Parting Gift: A memorable keepsake to con
 clude the evening.\n 	Crowning Ceremony: Celebrate the crowning of the two
  High Fairies of the Fairy Court.\n\nVIP Fairy Court Ticket Upgrades:\n\n 
 	Early Event Access: Enjoy a mini photo session with a professional photog
 rapher.\n 	Cozy VIP Lounge: Includes a private refreshment station.\n 	Exc
 lusive VIP Gift: A special treat for our VIP guests.\n\nBookish Club Group
  Pricing:\n\n 	Group Discounts: Book clubs and groups of 10-20 people rece
 ive a 10% discount on General Admission tickets (VIP tickets not eligible)
 .\n\nEvent Itinerary\n\n 	7:00 PM: Event begins\; raffle\, costume contest
 \, and bar open.\n 	7:00 - 7:45 PM: Live Harpist performance.\n 	7:30 PM: 
 Buffets open.\n 	7:45 PM: Ballroom dance lessons.\n 	8:00 PM: DJ begins - 
 it's time to dance!\n 	9:15 PM: Costume contest and raffle winner announce
 ments.\n 	11:00 PM: Event concludes.\n\nMenu\n\n 	Charcuterie Station (V &
 amp\; VG items)\n 	Spinach Ravioli with Tomato-Basil Cream Sauce (V)\n 	Me
 diterranean Chicken &amp\; Vegetable Kabobs (DF\, GF)\n 	Grilled Portabell
 a\, Goat Cheese\, &amp\; Roasted Red Pepper Sliders (V)\n 	Roasted Red Pep
 per Hummus with Pita Chips (VG)\n 	Summer Salad: Spinach\, strawberries\, 
 mandarin oranges\, candied pecans\, sweet peppercorn vinaigrette (VG)\n 	D
 esserts: To be announced!\n\nAttire\nThe dress code is formal fantasy. Fae
 ries\, humans\, and magical creatures are all welcome. The two best costum
 es will be crowned High Fairies of the Fairy Court. Follow @metbymoonlight
 events for inspiration.\nAccessibility\nThe venue is wheelchair accessible
 \, though seating is limited due to the reception-style setup. Please reac
 h out with any questions or concerns.\nCharity\n$10 from every ticket will
  be donated to the Share the Magic Foundation\, a non-profit dedicated to 
 making reading more accessible to children.\nJoin Us\nReserve your tickets
  now for a night of enchantment\, fantasy\, and unforgettable experiences.
 \n\nGET TICKETS\n
ATTACH;FMTTYPE=image/jpeg:https://breatheatlanta.us/wp-content/uploads/202
 4/05/A-Midsummer-Nights-Dream-Ball.jpg
LOCATION:Piedmont Garden Tent\, 500 Tenth St \, NE Atlanta\, GA\, 30188\, 3
 0309\, United States
X-APPLE-STRUCTURED-LOCATION;VALUE=URI;X-ADDRESS=500 Tenth St \, NE Atlanta\
 , GA\, 30188\, 30309\, United States;X-APPLE-RADIUS=100;X-TITLE=Piedmont G
 arden Tent:geo:0,0
END:VEVENT
BEGIN:VTIMEZONE
TZID:America/New_York
X-LIC-LOCATION:America/New_York
BEGIN:DAYLIGHT
DTSTART:20240310T030000
TZOFFSETFROM:-0500
TZOFFSETTO:-0400
TZNAME:EDT
END:DAYLIGHT
END:VTIMEZONE
END:VCALENDAR