BEGIN:VCALENDAR
VERSION:2.0
PRODID:-//wp-events-plugin.com//7.2.3.1//EN
TZID:America/New_York
X-WR-TIMEZONE:America/New_York
BEGIN:VEVENT
UID:291@breatheatlanta.us
DTSTART;TZID=America/New_York:20240607T190000
DTEND;TZID=America/New_York:20240607T210000
DTSTAMP:20240525T133012Z
URL:https://breatheatlanta.us/events/a-night-of-heart-then-there-now/
SUMMARY:A Night of He(art): Then\, There\, Now
DESCRIPTION:A Night of He(art): Then\, There\, Now celebrates the artist's 
 journey through an array of creative art forms.\n\nJoin us for an evening 
 brimming with creativity\, passion\, and inspiration. Dive into a rich cel
 ebration of art\, featuring music\, dance\, visual arts\, and spoken word 
 performances.\nEvent Theme\nThen\, There\, Now pays homage to the artist
 ’s journey\, capturing the essence of their struggles and triumphs. This
  theme explores the challenges artists face\, such as imposter syndrome\, 
 lack of motivation\, exhaustion\, and fear\, and celebrates the moment of 
 surrender when true creation happens.\nWhat to Expect\n\n 	Music and Dance
 : Enjoy captivating performances that express the raw emotions and stories
  of the artist’s journey.\n 	Visual Arts: Experience stunning artworks t
 hat depict the highs and lows of the creative process.\n 	Spoken Word: Lis
 ten to powerful spoken word pieces that articulate the struggles and break
 throughs of artists.\n\nDon't miss this unique event that honors the resil
 ience and spirit of artists. Immerse yourself in a night of heartfelt perf
 ormances and witness the transformative power of art.\n\nGET TICKETS\n
ATTACH;FMTTYPE=image/jpeg:https://breatheatlanta.us/wp-content/uploads/202
 4/05/A-Night-of-He-art-Then-There-Now.jpg
CATEGORIES:Arts &amp; Performances
LOCATION:The Atlanta Theater\, 195 Arizona Avenue Northeast Atlanta\, Atlan
 ta\, Georgia\, 30307\, GA\, United States
X-APPLE-STRUCTURED-LOCATION;VALUE=URI;X-ADDRESS=195 Arizona Avenue Northeas
 t Atlanta\, Atlanta\, Georgia\, 30307\, GA\, United States;X-APPLE-RADIUS=
 100;X-TITLE=The Atlanta Theater:geo:0,0
END:VEVENT
BEGIN:VTIMEZONE
TZID:America/New_York
X-LIC-LOCATION:America/New_York
BEGIN:DAYLIGHT
DTSTART:20240310T030000
TZOFFSETFROM:-0500
TZOFFSETTO:-0400
TZNAME:EDT
END:DAYLIGHT
END:VTIMEZONE
END:VCALENDAR