BEGIN:VCALENDAR
VERSION:2.0
PRODID:-//wp-events-plugin.com//7.2.3.1//EN
TZID:America/New_York
X-WR-TIMEZONE:America/New_York
BEGIN:VEVENT
UID:616@breatheatlanta.us
DTSTART;TZID=America/New_York;VALUE=DATE:20241109
DTEND;TZID=America/New_York;VALUE=DATE:20241110
DTSTAMP:20241013T130128Z
URL:https://breatheatlanta.us/events/a-taste-of-two-legends-mortons-atlant
 a/
SUMMARY:A Taste of Two Legends - Morton's Atlanta
DESCRIPTION:Morton's The Steakhouse in Atlanta is hosting an exclusive dini
 ng experience\, A Taste of Two Legends Wine Dinner\, on Saturday\, Novembe
 r 9\, 2024\, at 6:30 pm. This carefully curated event pairs fine wines fro
 m the renowned Duckhorn portfolio with an exquisite multi-course meal\, cr
 eating a harmonious fusion of flavors.\n\nHors d’oeuvres\nThe evening be
 gins with a delightful selection of hors d'oeuvres\, paired with the refre
 shing Duckhorn 'Decoy' Brut Cuvée.\n\n 	Smoked Salmon with English cucumb
 er and baby radish\n 	Crispy Potato Pancakes\, served with horseradish cr
 ème and Hackleback caviar\n 	Roasted Bartlett Pear Crostini topped with S
 tilton on brioche\n\nFirst Course\nA vibrant salad of baby arugula\, shave
 d fennel\, Honeycrisp apples\, goat cheese\, and spiced walnuts\, dressed 
 with a maple vinaigrette. This course is paired with the crisp and balance
 d Calera Chardonnay.\n\nSecond Course\nTender roasted lamb chops accompani
 ed by roasted harvest vegetables and a luscious blackberry jus. Complement
 ed by the rich and complex Goldeneye Pinot Noir.\n\nThird Course\nA hearty
  serving of braised short ribs with smashed red bliss potatoes and red cab
 bage confetti. This course is perfectly paired with the velvety Duckhorn '
 Three Palms' Merlot.\n\nFourth Course\nThe main attraction features succul
 ent slices of prime New York strip\, served with truffled polenta frites a
 nd a peppercorn cream sauce. Paired with two bold wines: Duckhorn Cabernet
  Sauvignon and Canvasback Cabernet Sauvignon.\n\nFifth Course\nThe dinner 
 concludes with Morton's signature coffee and indulgent chocolate truffles 
 to satisfy your sweet cravings.\n\nDetails\nThe cost for this luxurious fi
 ve-course dinner is $179 per person (inclusive of fees and gratuity). Plea
 se note that sales tax is not included in the price. Guests must be 21 yea
 rs or older\, and no refunds will be issued.\n\nThis exceptional evening i
 s an unmissable opportunity to savor fine dining alongside the finest wine
 s\, celebrating the legacy of two culinary legends.\n\nGET TICKETS\n
ATTACH;FMTTYPE=image/jpeg:https://breatheatlanta.us/wp-content/uploads/202
 4/10/A-Taste-of-Two.jpeg
CATEGORIES:Wellness Events
LOCATION:Morton's The Steakhouse - Atlanta\, 303 Peachtree Center Avenue\, 
  Atlanta\, Georgia\, 30308\, GA\, United States
X-APPLE-STRUCTURED-LOCATION;VALUE=URI;X-ADDRESS=303 Peachtree Center Avenue
 \,  Atlanta\, Georgia\, 30308\, GA\, United States;X-APPLE-RADIUS=100;X-TI
 TLE=Morton's The Steakhouse - Atlanta:geo:0,0
END:VEVENT
BEGIN:VTIMEZONE
TZID:America/New_York
X-LIC-LOCATION:America/New_York
BEGIN:STANDARD
DTSTART:20241103T010000
TZOFFSETFROM:-0400
TZOFFSETTO:-0500
TZNAME:EST
END:STANDARD
END:VTIMEZONE
END:VCALENDAR