BEGIN:VCALENDAR
VERSION:2.0
PRODID:-//wp-events-plugin.com//7.2.3.1//EN
TZID:America/New_York
X-WR-TIMEZONE:America/New_York
BEGIN:VEVENT
UID:273@breatheatlanta.us
DTSTART;TZID=America/New_York:20240521T110000
DTEND;TZID=America/New_York:20240521T150000
DTSTAMP:20240513T175545Z
URL:https://breatheatlanta.us/events/acls-advanced-cardiac-life-support/
SUMMARY:ACLS/Advanced Cardiac Life Support In-Person Class with AHA Certifi
 cation
DESCRIPTION:\nBe a Lifesaver: Master Advanced CPR with ACLS Training!\nRead
 y to take your lifesaving skills to the next level? The Advanced Cardiovas
 cular Life Support (ACLS) course equips healthcare professionals and other
  personnel with the knowledge and skills to effectively manage cardiac eme
 rgencies.\nBeyond the Basics:\n\n\n 	Builds on BLS: ACLS builds upon your 
 existing Basic Life Support (BLS) skills\, providing advanced training cru
 cial for critical situations.\n 	Comprehensive Training: Learn to recogniz
 e and intervene in cardiopulmonary arrest\, manage acute dysrhythmias\, st
 rokes\, and acute coronary syndromes.\n 	Effective Teamwork: Develop stron
 g communication and collaboration skills to function seamlessly within a h
 igh-performing resuscitation team.\n 	Varied Settings: Be prepared to hand
 le emergencies in both in-hospital and pre-hospital settings.\n\nBecome Ce
 rtified:\n\n\n 	Pass the Test: Successfully complete both a written exam (
 84% passing score) and a skills demonstration to earn your ACLS certificat
 ion.\n 	Digital Convenience: Receive your American Heart Association Heart
 saver card conveniently via email within 48 hours.\n\nReady to Register?\n
 \n\n 	Book Online: Visit the company website (link provided below) to avoi
 d additional booking fees and secure your spot in the course.\n 	Pre-Cours
 e Work: After registering\, you'll receive instructions for completing onl
 ine video and reading materials before attending the class. A pre-course a
 ssessment (80% passing score) must also be completed and brought to class.
 \n 	Confirmation: If you book within 12 hours of the class start time\, wa
 it for a confirmation email before attending. Call the instructor at 404-6
 20-1000 if you have any questions.\n\nImportant Notes:\n\n\n 	Rescheduling
 : Reach out to the instructor at 404-620-1000 to reschedule your class if 
 needed.\n 	Class Selection: It's your responsibility to choose the appropr
 iate class for your needs.\n 	Scheduling Flexibility: If the listed class 
 times don't work for you\, contact the instructor at 404-620-1000 to discu
 ss possible accommodations.\n\nDon't wait – empower yourself with the sk
 ills to save lives! Enroll in the ACLS course today!\nLink to Website: htt
 ps://www.quickcprclasses.com/acls-advanced-cardiovascular-life-support-per
 son-class-u-42\nContact:\n\n\n 	Phone/Text: 404-620-1000\n\n\n\nBUY TICKET
 S\n
ATTACH;FMTTYPE=image/jpeg:https://breatheatlanta.us/wp-content/uploads/202
 4/05/https___cdn.evbuc_.com_images_697697699_2006544614073_1_original.jpeg
CATEGORIES:Wellness Events
LOCATION:Quick CPR\, 1827 Powers Ferry Road Bldg 4\, Suite # 200 \, Atlanta
 \, Georgia\, 30339\, United States
X-APPLE-STRUCTURED-LOCATION;VALUE=URI;X-ADDRESS=1827 Powers Ferry Road Bldg
  4\, Suite # 200 \, Atlanta\, Georgia\, 30339\, United States;X-APPLE-RADI
 US=100;X-TITLE=Quick CPR:geo:0,0
END:VEVENT
BEGIN:VTIMEZONE
TZID:America/New_York
X-LIC-LOCATION:America/New_York
BEGIN:DAYLIGHT
DTSTART:20240310T030000
TZOFFSETFROM:-0500
TZOFFSETTO:-0400
TZNAME:EDT
END:DAYLIGHT
END:VTIMEZONE
END:VCALENDAR