BEGIN:VCALENDAR
VERSION:2.0
PRODID:-//wp-events-plugin.com//7.2.3.1//EN
TZID:America/New_York
X-WR-TIMEZONE:America/New_York
BEGIN:VEVENT
UID:792@breatheatlanta.us
DTSTART;TZID=America/New_York:20250227T100000
DTEND;TZID=America/New_York:20250227T150000
DTSTAMP:20250215T152357Z
URL:https://breatheatlanta.us/events/acls-provider/
SUMMARY:ACLS Provider
DESCRIPTION:ACLS Provider Course – Attentive Safety CPR and Safety Traini
 ng\nAttentive Safety offers a comprehensive Advanced Cardiovascular Life S
 upport (ACLS) Provider Course\, designed for healthcare professionals seek
 ing to enhance their ability to respond to cardiovascular emergencies. Thi
 s course provides in-depth training on essential life-saving skills\, focu
 sing on the recognition\, management\, and treatment of cardiac arrest\, a
 cute dysrhythmias\, stroke\, and acute coronary syndromes (ACS).\n\nWhat t
 he ACLS Provider Course Covers\nThe ACLS Provider course equips participan
 ts with critical knowledge and skills\, including:\n\n\n 	Preventing Cardi
 ac Arrest – Learn key strategies to reduce the likelihood of cardiac arr
 est and improve patient outcomes.\n 	High-Performance Team Dynamics – Un
 derstand the role of teamwork in managing high-stress emergency situations
  and performing high-quality CPR.\n 	Cardiopulmonary Resuscitation (CPR) 
 – Master the techniques for delivering continuous\, high-quality CPR\, i
 ncluding the use of AEDs.\n 	Systems of Care – Explore effective emergen
 cy care systems and protocols for managing patients in urgent cardiovascul
 ar distress.\n 	Recognition and Intervention – Gain the skills needed to
  identify and manage cardiopulmonary arrest\, and quickly intervene in cri
 tical moments.\n 	Post-Cardiac Arrest Care – Learn the most current tech
 niques for post-cardiac arrest care\, including cooling therapies and resu
 scitation strategies.\n 	Acute Dysrhythmias Management – Get hands-on ex
 perience in managing life-threatening arrhythmias\, and using advanced tec
 hniques for stabilization.\n 	Stroke and ACS – Understand the signs and 
 treatments for stroke and acute coronary syndromes (ACS)\, two of the most
  critical medical emergencies.\n\nCourse Features\n✅ Interactive Learnin
 g: Blended format combining online learning with hands-on practice led by 
 experienced instructors.✅ AHA Certification: Receive an American Heart A
 ssociation (AHA) ACLS Provider Card upon successful completion.✅ Compreh
 ensive Curriculum: Follow the latest AHA guidelines\, ensuring the most up
 -to-date protocols and techniques in emergency cardiovascular care.✅ Fle
 xible Scheduling: Courses available seven days a week\, with morning and a
 fternoon sessions to fit your busy schedule.✅ Course Length: The course 
 typically lasts 6-8 hours\, including both online and in-person components
 .\n\nWhy Choose Attentive Safety's ACLS Provider Course?\n✔ Learn from E
 xpert Instructors – The course is taught by experienced AHA-certified in
 structors\, ensuring a high-quality learning experience.✔ Hands-On Train
 ing – Benefit from real-world scenarios and practical applications of AC
 LS techniques to reinforce your skills.✔ Post-Course Support – Attenti
 ve Safety offers ongoing support and resources for all ACLS providers to e
 nsure continued professional growth.✔ Accredited Certification – The A
 HA ACLS Provider Card is recognized nationwide and valid for two years\, e
 nhancing your credentials as a healthcare provider.\n\nWho Should Take Thi
 s Course?\nThis course is ideal for healthcare professionals\, including:\
 n\n\n 	Doctors and Nurses\n 	Paramedics and Emergency Responders\n 	Health
 care providers in emergency care settings\n 	Other medical personnel looki
 ng to expand their expertise in advanced cardiovascular life support\n\nGe
 t Started Today!\nIf you’re ready to advance your cardiovascular emergen
 cy care skills and earn your ACLS certification\, register for the ACLS Pr
 ovider Course at Attentive Safety today.\n🔗 Register Now: ACLS Provider
  Course\n\n\n\n\n\nGET TICKETS\n
ATTACH;FMTTYPE=image/jpeg:https://breatheatlanta.us/wp-content/uploads/202
 5/02/ACLS-Provider.jpg
CATEGORIES:Wellness Events
END:VEVENT
BEGIN:VTIMEZONE
TZID:America/New_York
X-LIC-LOCATION:America/New_York
BEGIN:STANDARD
DTSTART:20241103T010000
TZOFFSETFROM:-0400
TZOFFSETTO:-0500
TZNAME:EST
END:STANDARD
END:VTIMEZONE
END:VCALENDAR