BEGIN:VCALENDAR
VERSION:2.0
PRODID:-//wp-events-plugin.com//7.2.3.1//EN
TZID:America/New_York
X-WR-TIMEZONE:America/New_York
BEGIN:VEVENT
UID:827@breatheatlanta.us
DTSTART;TZID=America/New_York:20250308T100000
DTEND;TZID=America/New_York:20250308T123000
DTSTAMP:20250225T032521Z
URL:https://breatheatlanta.us/events/acls-renewal-2/
SUMMARY:ACLS Renewal
DESCRIPTION:Attentive Safety CPR and Safety Training offers the Advanced Ca
 rdiovascular Life Support (ACLS) Renewal Course\, specifically designed fo
 r healthcare professionals who need to renew their unexpired ACLS Provider
  Card. This course ensures that participants maintain their skills and kno
 wledge in managing cardiovascular emergencies\, emphasizing the importance
  of effective team dynamics\, high-quality CPR\, and timely intervention.\
 n\nWhy Choose the ACLS Renewal Course at Attentive Safety?\nThe ACLS Renew
 al Course at Attentive Safety is structured to provide an in-depth review 
 of essential life-saving techniques while introducing the latest updates i
 n emergency cardiovascular care. Guided by experienced instructors\, parti
 cipants will reinforce their skills in recognition and intervention of car
 diopulmonary arrest\, post-cardiac arrest care\, acute dysrhythmias\, stro
 ke\, and acute coronary syndromes (ACS). The course is ideal for healthcar
 e providers in emergency medicine\, critical care units\, and intensive ca
 re settings who are seeking to renew their ACLS certification.\n\nKey Feat
 ures and Benefits:\n\n 	Comprehensive Curriculum: The course covers critic
 al areas including:\n\n 	Prevention of Cardiac Arrest: Emphasizing early r
 ecognition and intervention to prevent cardiac emergencies.\n 	High-Perfor
 mance Team Dynamics: Training on effective communication and collaboration
  in high-stress scenarios.\n 	Continuous High-Quality CPR: Reinforcement o
 f techniques for delivering consistent and effective chest compressions.\n
  	Recognition and Intervention: Identification and management of cardiopul
 monary arrest\, acute dysrhythmias\, stroke\, and acute coronary syndromes
  (ACS).\n 	Post-Cardiac Arrest Care: Guidelines on post-resuscitation care
  to improve patient outcomes.\n\n\n 	Hands-On Learning Experience: Instruc
 tor-led\, hands-on practice sessions allow participants to apply theoretic
 al knowledge to real-life scenarios.\n 	American Heart Association (AHA) C
 ertification: Participants receive an AHA ACLS Provider Card\, valid for t
 wo years upon successful completion of the course.\n 	Experienced Instruct
 ors: Classes are conducted by certified AHA instructors with extensive exp
 erience in emergency cardiovascular care.\n 	Convenient Scheduling: Flexib
 le class schedules are available\, including weekday and weekend sessions\
 , to accommodate busy healthcare professionals.\n\nCourse Details:\n\n 	Co
 urse Type: ACLS Renewal / Update Course\n 	Eligibility: Intended for healt
 hcare professionals with an unexpired ACLS Provider Card who need to renew
  their certification.\n 	Course Format: The renewal course includes a revi
 ew of ACLS guidelines\, hands-on practice sessions\, and a skills evaluati
 on.\n 	Course Cost: Detailed pricing and registration information are avai
 lable on the website. Payment must be made at least 24 hours in advance to
  secure a spot.\n 	Certification: Upon successful completion\, participant
 s receive an AHA ACLS Provider Card valid for two years.\n 	Class Duration
 : The renewal course is designed to provide a concise review and skills ch
 eck\, ensuring participants remain proficient in ACLS techniques.\n\nCours
 e Locations:\n\n 	1640 Powers Ferry Rd SE\, Bldg 18\, Suite 300\, Marietta
 \, GA 30067\n 	3688 Clearview Ave\, Suite 201\, Doraville\, GA 30340\n 	28
 06 Ruffner Rd\, Suite 104\, Irondale\, AL 35210\n\nWho Should Attend?\nThe
  ACLS Renewal Course is ideal for medical professionals such as:\n\n\n 	Ph
 ysicians and Nurses working in emergency departments\, intensive care unit
 s\, and critical care settings.\n 	Paramedics\, Emergency Medical Technici
 ans (EMTs)\, and Respiratory Therapists involved in cardiovascular emergen
 cy care.\n 	Healthcare Providers seeking to update their knowledge and ren
 ew their ACLS certification.\n\nBenefits of Renewing Your ACLS Certificati
 on:\n\n 	Stay Current with AHA Guidelines: Keep up-to-date with the latest
  AHA ECC (Emergency Cardiovascular Care) guidelines and best practices.\n 
 	Maintain Proficiency in Life-Saving Skills: Ensure continued competence i
 n high-quality CPR\, advanced resuscitation techniques\, and team dynamics
 .\n 	Career Advancement: Maintaining ACLS certification enhances professio
 nal credibility and career opportunities in critical care and emergency re
 sponse roles.\n 	Confidence in Emergency Situations: Boost your confidence
  in managing complex cardiovascular emergencies with updated skills and kn
 owledge.\n\nHow to Register:\nReady to renew your ACLS certification? Regi
 ster for the ACLS Renewal Course with Attentive Safety by visiting the reg
 istration page: ACLS Renewal Registration. Ensure you remain proficient in
  life-saving skills and continue delivering high-quality patient care.\n\n
 Why Choose Attentive Safety?\nAttentive Safety CPR and Safety Training is 
 a trusted provider of American Heart Association-certified courses\, speci
 alizing in life-saving education for healthcare professionals. With experi
 enced instructors\, comprehensive curriculum\, and flexible scheduling\, A
 ttentive Safety is dedicated to empowering healthcare providers with the k
 nowledge and skills they need to respond effectively in critical situation
 s.\nChoose Attentive Safety as your partner in life-saving education and A
 CLS certification renewal. Maintain your skills\, stay compliant with AHA 
 guidelines\, and continue to make a meaningful impact in patient care.\n\n
 Tags:\n#ACLS #ACLS_Renewal #ACLS_Certification #ACLS_Refresher #ACLS_Train
 ing #ACLS_Skills #Cardiovascular_Emergency #CPR_Training #Healthcare_Provi
 der_Certification #Life_Saving_Education\n\nReady to Renew Your ACLS Certi
 fication?\nDon’t let your ACLS certification expire! Take action today a
 nd ensure your life-saving skills are up-to-date. Register now for the ACL
 S Renewal Course at Attentive Safety and continue making a difference in e
 mergency cardiovascular care.\n\n\nGET TICKETS\n
ATTACH;FMTTYPE=image/jpeg:https://breatheatlanta.us/wp-content/uploads/202
 5/02/ACLS-Renewal-1.avif
CATEGORIES:Wellness Events
LOCATION:Attentive Safety CPR and Safety Training\, 3688 Clearview Avenue\,
  Suite 201 Doraville\, 30340\, GA\, United States
X-APPLE-STRUCTURED-LOCATION;VALUE=URI;X-ADDRESS=3688 Clearview Avenue\, Sui
 te 201 Doraville\, 30340\, GA\, United States;X-APPLE-RADIUS=100;X-TITLE=A
 ttentive Safety CPR and Safety Training:geo:0,0
END:VEVENT
BEGIN:VTIMEZONE
TZID:America/New_York
X-LIC-LOCATION:America/New_York
BEGIN:STANDARD
DTSTART:20241103T010000
TZOFFSETFROM:-0400
TZOFFSETTO:-0500
TZNAME:EST
END:STANDARD
END:VTIMEZONE
END:VCALENDAR