BEGIN:VCALENDAR
VERSION:2.0
PRODID:-//wp-events-plugin.com//7.2.3.1//EN
TZID:America/New_York
X-WR-TIMEZONE:America/New_York
BEGIN:VEVENT
UID:681@breatheatlanta.us
DTSTART;TZID=America/New_York:20241123T120000
DTEND;TZID=America/New_York:20241123T130000
DTSTAMP:20241024T143101Z
URL:https://breatheatlanta.us/events/adolescent-yoga/
SUMMARY:Adolescent Yoga
DESCRIPTION:\n\n\n\n\nThe Center for Intuitive Healing invites young indivi
 duals to the Adolescent Yoga event\, an enriching experience aimed at kids
  and teenagers. Scheduled for Saturday\, September 28\, 2024\, at 12:00 PM
 \, and recurring on the fourth Saturday of every month\, this in-person se
 ssion offers a nurturing environment where adolescents can explore the ben
 efits of yoga.\n\nThe event is designed to help participants engage with m
 indfulness\, movement\, and relaxation techniques in a safe and welcoming 
 space. Whether attendees are beginners or have practiced yoga before\, thi
 s event encourages them to unwind\, de-stress\, and enhance their overall 
 well-being.\n\nAdolescent Yoga at the Center for Intuitive Healing is a un
 ique opportunity for young people to reconnect with their bodies and minds
 . Guided by experienced instructors\, participants will leave feeling refr
 eshed and empowered. This regular practice fosters mental clarity\, emotio
 nal balance\, and physical health\, making it an ideal setting for teens t
 o cultivate self-awareness and inner peace.\n\nMark your calendars and joi
 n the Center for a journey toward wellness and harmony. Namaste!\n\n\n\n\n
 \n\nGET TICKETS\n
ATTACH;FMTTYPE=image/jpeg:https://breatheatlanta.us/wp-content/uploads/202
 4/10/Adolescent-Yoga.jpg
CATEGORIES:Yoga Events
LOCATION:Center for Intuitive Healing\, 1842 Independence Square Suite D Du
 nwoody\, Atlanta\, Georgia\, 30338\, GA\, United States
X-APPLE-STRUCTURED-LOCATION;VALUE=URI;X-ADDRESS=1842 Independence Square Su
 ite D Dunwoody\, Atlanta\, Georgia\, 30338\, GA\, United States;X-APPLE-RA
 DIUS=100;X-TITLE=Center for Intuitive Healing:geo:0,0
END:VEVENT
BEGIN:VTIMEZONE
TZID:America/New_York
X-LIC-LOCATION:America/New_York
BEGIN:STANDARD
DTSTART:20241103T010000
TZOFFSETFROM:-0400
TZOFFSETTO:-0500
TZNAME:EST
END:STANDARD
END:VTIMEZONE
END:VCALENDAR