BEGIN:VCALENDAR
VERSION:2.0
PRODID:-//wp-events-plugin.com//7.2.3.1//EN
TZID:America/New_York
X-WR-TIMEZONE:America/New_York
BEGIN:VEVENT
UID:604@breatheatlanta.us
DTSTART;TZID=America/New_York:20241110T130000
DTEND;TZID=America/New_York:20241110T180000
DTSTAMP:20241012T180430Z
URL:https://breatheatlanta.us/events/advanced-lip-filler-injection-techniq
 ues-atlanta-ga/
SUMMARY:Advanced Lip Filler Injection Techniques - Atlanta\, GA
DESCRIPTION:Lip injections have emerged as the most common application of h
 yaluronic acid (HA) fillers for facial enhancement\, now surpassing tradit
 ional areas such as the cheeks and nasolabial folds in popularity. This tr
 end is evident across diverse demographic groups\, reflecting the growing 
 demand for lip augmentation procedures. As people of all ages seek to impr
 ove the appearance of their lips\, the procedure has become a key componen
 t of modern aesthetic practices\, with its popularity showing no signs of 
 slowing down.\n\nThe increasing demand for lip enhancements makes it essen
 tial for aesthetic practitioners to stay updated on the latest advanced te
 chniques in lip filler injections. Patients often come with specific\, ind
 ividualized aesthetic goals\, from achieving a more defined lip contour to
  enhancing volume or correcting asymmetry. Therefore\, mastering the intri
 cate art of lip augmentation is crucial to delivering personalized\, natur
 al-looking results.\n\nAdvanced lip filler techniques focus on precision\,
  symmetry\, and understanding the unique anatomy of each patient. Practiti
 oners must be skilled in the proper placement of HA fillers\, using innova
 tive methods that ensure smooth\, consistent outcomes with minimal discomf
 ort and recovery time. Moreover\, staying informed about the latest tools 
 and trends in the field allows practitioners to meet the evolving expectat
 ions of clients who view lip enhancement as a fashionable and transformati
 ve option.\n\nFor those in the field of aesthetics\, training in advanced 
 lip filler injection techniques offers a valuable opportunity to refine th
 eir skills and provide exceptional results. By mastering these techniques\
 , practitioners can offer their patients the latest in lip enhancement pro
 cedures\, ensuring safety\, satisfaction\, and a superior aesthetic outcom
 e.\n\nGET TICKETS\n
ATTACH;FMTTYPE=image/jpeg:https://breatheatlanta.us/wp-content/uploads/202
 4/10/Advanced-Lip-Filler-Injection.jpeg
CATEGORIES:Things To Do
LOCATION:3391 Peachtree Rd NE\, 3391 Peachtree Road\, Northeast Atlanta\, G
 eorgia\, 30326\, GA\, United States
X-APPLE-STRUCTURED-LOCATION;VALUE=URI;X-ADDRESS=3391 Peachtree Road\, North
 east Atlanta\, Georgia\, 30326\, GA\, United States;X-APPLE-RADIUS=100;X-T
 ITLE=3391 Peachtree Rd NE:geo:0,0
END:VEVENT
BEGIN:VTIMEZONE
TZID:America/New_York
X-LIC-LOCATION:America/New_York
BEGIN:STANDARD
DTSTART:20241103T010000
TZOFFSETFROM:-0400
TZOFFSETTO:-0500
TZNAME:EST
END:STANDARD
END:VTIMEZONE
END:VCALENDAR