BEGIN:VCALENDAR
VERSION:2.0
PRODID:-//wp-events-plugin.com//7.2.3.1//EN
TZID:America/New_York
X-WR-TIMEZONE:America/New_York
BEGIN:VEVENT
UID:264@breatheatlanta.us
DTSTART;TZID=America/New_York:20240518T110000
DTEND;TZID=America/New_York:20240518T140000
DTSTAMP:20240507T202919Z
URL:https://breatheatlanta.us/events/affirmation-workshop-brunch/
SUMMARY:Healing Thoughts - Affirmation Workshop & Brunch
DESCRIPTION:\nManifest Your Best Life: An Affirmation &amp\; Chakra Activat
 ion Workshop!\nUnlock Your Positive Potential &amp\; Create the Life You D
 esire!\nJoin us for a transformative workshop designed to empower you to m
 anifest your best life! Learn the powerful practice of affirmations and ha
 rness the energy of your chakras to break free from negativity and achieve
  your goals.\nThe Power of Affirmations:\n\n\n 	Words that Empower: Discov
 er the science behind affirmations and how they can shift your internal st
 ate to align with your desired outcomes. This workshop guides you in creat
 ing powerful and effective affirmations to transform negative thought patt
 erns into positive beliefs.\n 	Manifesting Your Dreams: Learn how affirmat
 ions act as a bridge between your inner world and your external reality. B
 y consistently affirming your desires\, you can attract positive experienc
 es and achieve your goals.\n\nChakra Activation &amp\; Energetic Balance:\
 n\n\n 	Energy Centers for Wellbeing: Delve into the world of chakras\, the
  energy centers within your body. This workshop explores how balanced chak
 ras contribute to emotional and physical wellbeing\, creating a foundation
  for success.\n 	Restoring Balance: Through guided practices like meditati
 on and energy healing techniques such as reiki and sound healing\, you'll 
 restore balance to your chakras\, fostering a sense of harmony and inner p
 eace.\n\nA Multi-Sensory Experience:\n\n\n 	Group Activities: Connect with
  like-minded individuals and engage in stimulating discussions and collabo
 rative activities designed to enhance your learning experience.\n 	Persona
 lized Affirmation Recordings: Create personalized affirmation recordings i
 n your own voice. These recordings will serve as powerful tools for daily 
 use\, reminding you of your goals and supporting your positive transformat
 ion.\n\nNourishment for Body &amp\; Soul:\n\n\n 	Delicious Refreshments: I
 ndulge in our signature Blackberry Mimosas alongside a delicious vegan bru
 nch. Let the nourishing food and refreshing drinks fuel your mind\, body\,
  and spirit throughout the workshop.\n\nThis workshop is more than just le
 arning\; it's an experience! It's an opportunity to unlock your positive p
 otential\, create powerful affirmations\, and embark on a journey towards 
 manifesting your best life!\nHashtags:\n#AffirmationWorkshop #Manifestatio
 n #PositiveTransformation #ChakraBalance #MindBodySoul #VeganBrunch\n\n\n\
 nBUY TICKETS\n
ATTACH;FMTTYPE=image/jpeg:https://breatheatlanta.us/wp-content/uploads/202
 4/05/https___cdn.evbuc_.com_images_682969909_21403517138_1_original.jpeg
CATEGORIES:Wellness Events
LOCATION:Atlantic Station\, 270 17th St NW\, Atlanta\, Georgia\, 30363\, Un
 ited States
X-APPLE-STRUCTURED-LOCATION;VALUE=URI;X-ADDRESS=270 17th St NW\, Atlanta\, 
 Georgia\, 30363\, United States;X-APPLE-RADIUS=100;X-TITLE=Atlantic Statio
 n:geo:0,0
END:VEVENT
BEGIN:VTIMEZONE
TZID:America/New_York
X-LIC-LOCATION:America/New_York
BEGIN:DAYLIGHT
DTSTART:20240310T030000
TZOFFSETFROM:-0500
TZOFFSETTO:-0400
TZNAME:EDT
END:DAYLIGHT
END:VTIMEZONE
END:VCALENDAR