BEGIN:VCALENDAR
VERSION:2.0
PRODID:-//wp-events-plugin.com//7.2.3.1//EN
TZID:America/New_York
X-WR-TIMEZONE:America/New_York
BEGIN:VEVENT
UID:665@breatheatlanta.us
DTSTART;TZID=America/New_York:20241024T090000
DTEND;TZID=America/New_York:20241024T190000
DTSTAMP:20241018T095849Z
URL:https://breatheatlanta.us/events/african-heritage-studies-association-
 2024-annual-conference/
SUMMARY:AFRICAN HERITAGE STUDIES ASSOCIATION 2024 ANNUAL CONFERENCE
DESCRIPTION:The African Heritage Studies Association is excited to announce
  its 2024 Annual Conference\, themed "Reclaiming Our Narratives\, Illumina
 ting Our Legacy\, and Shaping Our Destiny." This significant gathering wil
 l provide a platform for scholars\, practitioners\, and community members 
 to come together and explore the rich tapestry of African heritage and its
  profound impact on contemporary society.\n\nDuring the conference\, atten
 dees will engage in thought-provoking discussions\, presentations\, and wo
 rkshops aimed at reexamining and reclaiming the narratives that shape the 
 African experience. The focus will be on illuminating the legacies of Afri
 can heritage\, acknowledging the past\, and using this knowledge to inform
  and inspire future generations. Participants will have the opportunity to
  collaborate and exchange ideas on how to actively shape their own destini
 es\, ensuring that the voices of African descendants are heard and respect
 ed in all facets of life.\n\nExperts from various fields will present rese
 arch and case studies that highlight the contributions of African cultures
  to global society\, emphasizing the importance of understanding these nar
 ratives in the context of today’s challenges. Attendees will also have t
 he chance to participate in networking sessions\, fostering connections th
 at can lead to impactful collaborations and initiatives within their commu
 nities.\n\nThis conference aims to empower individuals and organizations a
 like to take ownership of their stories and actively contribute to the ong
 oing dialogue about African heritage. By reclaiming their narratives\, ill
 uminating their legacies\, and shaping their destinies\, participants will
  leave the conference with renewed inspiration and actionable strategies f
 or advocacy and engagement.\n\nJoin the African Heritage Studies Associati
 on in this essential celebration of culture\, history\, and community as t
 hey work together to create a brighter future rooted in understanding and 
 respect for African heritage.\n\nGET TICKETS\n
ATTACH;FMTTYPE=image/jpeg:https://breatheatlanta.us/wp-content/uploads/202
 4/10/AFRICAN-HERITAGE-STUDIES-ASSOCIATION-2024-ANNUAL-CONFERENCE.jpg
CATEGORIES:Things To Do
LOCATION:Clark Atlanta University\, 223 James P Brawley Drive Southwest Atl
 anta\, Atlanta\, Georgia\, 30314\,  GA\, United States
X-APPLE-STRUCTURED-LOCATION;VALUE=URI;X-ADDRESS=223 James P Brawley Drive S
 outhwest Atlanta\, Atlanta\, Georgia\, 30314\,  GA\, United States;X-APPLE
 -RADIUS=100;X-TITLE=Clark Atlanta University:geo:0,0
END:VEVENT
BEGIN:VTIMEZONE
TZID:America/New_York
X-LIC-LOCATION:America/New_York
BEGIN:DAYLIGHT
DTSTART:20240310T030000
TZOFFSETFROM:-0500
TZOFFSETTO:-0400
TZNAME:EDT
END:DAYLIGHT
END:VTIMEZONE
END:VCALENDAR