BEGIN:VCALENDAR
VERSION:2.0
PRODID:-//wp-events-plugin.com//7.2.3.1//EN
TZID:America/New_York
X-WR-TIMEZONE:America/New_York
BEGIN:VEVENT
UID:242@breatheatlanta.us
DTSTART;TZID=America/New_York:20240430T090000
DTEND;TZID=America/New_York:20240430T140000
DTSTAMP:20240409T162743Z
URL:https://breatheatlanta.us/events/aging-and-mental-wellness-conference/
SUMMARY:Shine Brighter: Aging and Mental Wellness Conference
DESCRIPTION:\nEmpower Your Mind as You Age: Shine Brighter Conference (Free
 !)\nCalling all active adults! Join the Three Rivers Area Agency on Aging 
 for the Shine Brighter: Aging and Mental Wellness Conference. This FREE in
 -person event is designed to illuminate the importance of mental well-bein
 g for a fulfilling life\, no matter your age.\nLight Up Your Later Years:\
 nThis conference offers a day of insightful sessions and discussions focus
 ed on:\n\n\n 	Maintaining Mental Wellness: Discover strategies to keep you
 r mind sharp and your spirit vibrant as you age.\n 	Interactive Workshops:
  Engage in practical sessions that equip you with tools and techniques for
  mental well-being.\n 	Expert Connections: Connect with leading profession
 als in the field and ask your questions.\n\nA Community of Support:\n\n\n 
 	Learn from Others: Share experiences and connect with fellow participants
  on their journeys towards mental wellness.\n 	Combat Stigma: Shine a ligh
 t on the importance of mental health in aging and break down any negative 
 stereotypes.\n 	Empower Yourself: Gain valuable knowledge and tools to thr
 ive mentally and emotionally in your golden years.\n\nDon't Miss Out!\n\n\
 n 	Date: [Insert Date of Conference]\n 	Time: [Insert Time of Conference]\
 n 	Location: [Insert Location of Conference]\n 	Cost: FREE!\n\nRegistratio
 n is Required: Secure your spot today to ensure your participation in this
  enriching event.\nShine Brighter Together!\nThis conference is more than 
 just an educational event\; it's a celebration of mental well-being in our
  aging community. Join us and:\n\n\n 	Discover Your Potential: Learn how t
 o cultivate a positive mindset and maximize your mental well-being.\n 	Con
 nect with Others: Build a network of supportive peers who share your commi
 tment to healthy aging.\n 	Embrace a Brighter Future: Empower yourself wit
 h the knowledge and tools to live a fulfilling and mentally vibrant life.\
 n\nLet's shine a light on the importance of mental health and illuminate t
 he path to a happy and fulfilling future\, together!\nRegister Today!\n\n\
 n\nBOOK SEATS\n
ATTACH;FMTTYPE=image/jpeg:https://breatheatlanta.us/wp-content/uploads/202
 4/04/https___cdn.evbuc_.com_images_729571219_230496648716_1_original.jpeg
CATEGORIES:Wellness Events
LOCATION:Coweta County Fair Grounds\, 275 Pine Road\, Newnan\, Georgia\, 30
 263\, United States
X-APPLE-STRUCTURED-LOCATION;VALUE=URI;X-ADDRESS=275 Pine Road\, Newnan\, Ge
 orgia\, 30263\, United States;X-APPLE-RADIUS=100;X-TITLE=Coweta County Fai
 r Grounds:geo:0,0
END:VEVENT
BEGIN:VTIMEZONE
TZID:America/New_York
X-LIC-LOCATION:America/New_York
BEGIN:DAYLIGHT
DTSTART:20240310T030000
TZOFFSETFROM:-0500
TZOFFSETTO:-0400
TZNAME:EDT
END:DAYLIGHT
END:VTIMEZONE
END:VCALENDAR