BEGIN:VCALENDAR
VERSION:2.0
PRODID:-//wp-events-plugin.com//7.2.3.1//EN
TZID:America/New_York
X-WR-TIMEZONE:America/New_York
BEGIN:VEVENT
UID:567@breatheatlanta.us
DTSTART;TZID=America/New_York;VALUE=DATE:20241103
DTEND;TZID=America/New_York;VALUE=DATE:20241104
DTSTAMP:20241008T152632Z
URL:https://breatheatlanta.us/events/aha-bls-cpr-and-aed-class-in-atlanta-
 cpr-classes-near-me-atlanta/
SUMMARY:AHA BLS CPR and AED Class in Atlanta - CPR Classes Near Me Atlanta
DESCRIPTION:CPR Classes Near Me provides American Heart Association (AHA) B
 LS CPR and AED classes in Atlanta\, GA\, offering essential training in li
 fe-saving techniques. These courses are designed to equip participants wit
 h the critical skills needed to respond effectively in emergency situation
 s. With a focus on hands-on learning and practical application\, the class
 es ensure that individuals are prepared to perform CPR and use an AED conf
 idently. Whether for personal knowledge or professional certification\, th
 ese classes are a valuable resource for anyone looking to enhance their em
 ergency response skills. By participating in the AHA BLS CPR and AED class
 \, attendees can make a significant impact on their community by becoming 
 capable responders in times of need.\n\nGET TICKETS\n
ATTACH;FMTTYPE=image/jpeg:https://breatheatlanta.us/wp-content/uploads/202
 4/10/Infant-BLS-CPR-and-AED-Class-in-Atlanta-CPR-Classes-Near-Me-Atlanta-1
 .jpeg
CATEGORIES:Wellness Events
LOCATION:CPR Classes Near Me Atlanta Cumberland\, 2255 Cumberland Parkway S
 outheast \, Los Angeles\, California\, 30339\, GA\, United States
X-APPLE-STRUCTURED-LOCATION;VALUE=URI;X-ADDRESS=2255 Cumberland Parkway Sou
 theast \, Los Angeles\, California\, 30339\, GA\, United States;X-APPLE-RA
 DIUS=100;X-TITLE=CPR Classes Near Me Atlanta Cumberland:geo:0,0
END:VEVENT
BEGIN:VTIMEZONE
TZID:America/New_York
X-LIC-LOCATION:America/New_York
BEGIN:DAYLIGHT
DTSTART:20240310T030000
TZOFFSETFROM:-0500
TZOFFSETTO:-0400
TZNAME:EDT
END:DAYLIGHT
BEGIN:STANDARD
DTSTART:20241103T010000
TZOFFSETFROM:-0400
TZOFFSETTO:-0500
TZNAME:EST
END:STANDARD
END:VTIMEZONE
END:VCALENDAR