BEGIN:VCALENDAR
VERSION:2.0
PRODID:-//wp-events-plugin.com//7.2.3.1//EN
TZID:America/New_York
X-WR-TIMEZONE:America/New_York
BEGIN:VEVENT
UID:547@breatheatlanta.us
DTSTART;TZID=America/New_York:20241017T180000
DTEND;TZID=America/New_York:20241017T210000
DTSTAMP:20241001T132658Z
URL:https://breatheatlanta.us/events/aha-bls-cpr-first-aid-class-in-atlant
 a-cpr-classes-near-me-atlanta/
SUMMARY:AHA BLS CPR & FIRST AID Class in Atlanta - CPR Classes Near Me Atla
 nta
DESCRIPTION:CPR Classes Near Me in Atlanta offers comprehensive American He
 art Association (AHA) Basic Life Support (BLS) CPR and First Aid courses. 
 These classes are designed to equip individuals with critical\, life-savin
 g skills. Located in Atlanta\, GA\, this training provides participants wi
 th the knowledge and techniques necessary to respond effectively in emerge
 ncies\, making it a vital resource for anyone seeking to improve their CPR
  and first aid capabilities.\n\nGET TICKETS\n
ATTACH;FMTTYPE=image/jpeg:https://breatheatlanta.us/wp-content/uploads/202
 4/10/AHA-BLS-CPR-FIRST-AID-Class-in-Atlanta-CPR-Classes-Near-Me-Atlanta.jp
 g
CATEGORIES:Wellness Events
LOCATION:CPR Classes Near Me Atlanta Cumberland\, 2255 Cumberland Parkway S
 outheast\, Building 1600 Atlanta\, Georgia\, 30318\, GA\, United States
X-APPLE-STRUCTURED-LOCATION;VALUE=URI;X-ADDRESS=2255 Cumberland Parkway Sou
 theast\, Building 1600 Atlanta\, Georgia\, 30318\, GA\, United States;X-AP
 PLE-RADIUS=100;X-TITLE=CPR Classes Near Me Atlanta Cumberland:geo:0,0
END:VEVENT
BEGIN:VTIMEZONE
TZID:America/New_York
X-LIC-LOCATION:America/New_York
BEGIN:DAYLIGHT
DTSTART:20240310T030000
TZOFFSETFROM:-0500
TZOFFSETTO:-0400
TZNAME:EDT
END:DAYLIGHT
END:VTIMEZONE
END:VCALENDAR