BEGIN:VCALENDAR
VERSION:2.0
PRODID:-//wp-events-plugin.com//7.2.3.1//EN
TZID:America/New_York
X-WR-TIMEZONE:America/New_York
BEGIN:VEVENT
UID:571@breatheatlanta.us
DTSTART;TZID=America/New_York:20241103T110000
DTEND;TZID=America/New_York:20241103T133000
DTSTAMP:20241009T113411Z
URL:https://breatheatlanta.us/events/align-wine-yoga-2/
SUMMARY:Align + Wine Yoga
DESCRIPTION:Experience a rejuvenating blend of yoga and wine with "Align + 
 Wine Yoga\," a unique monthly event hosted by Shavonna at Vinoteca. Held o
 n the first Sunday of each month\, this session offers the perfect opportu
 nity to refresh both your yoga practice and your taste buds. During the yo
 ga class\, participants will engage in a series of postures designed to re
 duce stress\, build strength\, and enhance both mental and physical flexib
 ility. Once the body is aligned and balanced\, the experience continues wi
 th a curated wine tasting\, allowing attendees to savor a variety of wines
  that are sure to expand their palate while maintaining a state of Zen. Wh
 ether you're a seasoned yogi or a beginner\, Align + Wine Yoga offers a ha
 rmonious blend of relaxation\, mindfulness\, and indulgence.\n\nGET TICKET
 S\n
ATTACH;FMTTYPE=image/jpeg:https://breatheatlanta.us/wp-content/uploads/202
 4/10/Align.jpeg
CATEGORIES:Yoga Events
LOCATION:Vinoteca\, 299 North Highland Avenue \, Northeast Suite T Atlanta\
 , California\, 30307 \, CA\, United States
X-APPLE-STRUCTURED-LOCATION;VALUE=URI;X-ADDRESS=299 North Highland Avenue \
 , Northeast Suite T Atlanta\, California\, 30307 \, CA\, United States;X-A
 PPLE-RADIUS=100;X-TITLE=Vinoteca:geo:0,0
END:VEVENT
BEGIN:VTIMEZONE
TZID:America/New_York
X-LIC-LOCATION:America/New_York
BEGIN:STANDARD
DTSTART:20241103T010000
TZOFFSETFROM:-0400
TZOFFSETTO:-0500
TZNAME:EST
END:STANDARD
END:VTIMEZONE
END:VCALENDAR