BEGIN:VCALENDAR
VERSION:2.0
PRODID:-//wp-events-plugin.com//7.2.3.1//EN
TZID:America/New_York
X-WR-TIMEZONE:America/New_York
BEGIN:VEVENT
UID:113@breatheatlanta.us
DTSTART;TZID=America/New_York:20240407T110000
DTEND;TZID=America/New_York:20240407T133000
DTSTAMP:20240323T080752Z
URL:https://breatheatlanta.us/events/align-wine-yoga/
SUMMARY:Align + Wine Yoga
DESCRIPTION:Experience the ultimate fusion of yoga and wine\, tailored for 
 individuals of every skill level. Discover the harmonious balance between 
 physical well-being and sensory delight as you indulge in this unique comb
 ination. Whether you're a seasoned yogi or a novice\, this event offers th
 e perfect blend of relaxation and enjoyment. Join us for an unforgettable 
 journey of rejuvenation and pleasure\, where yoga and wine unite to create
  a truly blissful experience.\n\nEvent Information:\n\nEvent Name: Align +
  Wine Yoga\n\nHost: Shavonna Warthen\n\nDate and Time: Sunday\, April 7 
 • 11:00 am - 1:30 pm EDT\n\nLocation: Vinoteca\, 299 North Highland Aven
 ue Northeast Suite T Atlanta\, GA 30307\, United States\n\nTicket Price: G
 eneral Admission - In Person: $25.00 (+$3.16 Fee)\n\nGET TICKETS\n\nAbout 
 this Event: Indulge in the perfect pairing of yoga and wine at Align + Win
 e Yoga\, hosted by Shavonna Warthen. Suitable for individuals of all level
 s\, this event offers a rejuvenating yoga session followed by a wine-tasti
 ng experience. Immerse yourself in a series of yoga postures designed to d
 ecrease stress\, enhance strength\, and improve flexibility\, both mentall
 y and physically. After aligning your body and mind\, treat your palate to
  a wine tasting that promises to expand your senses while maintaining your
  Zen.\n\nWorkout Session Detail:\n\nYoga sessions focus on aligning the bo
 dy with postures to decrease stress\, build strength\, and improve flexibi
 lity.\n\nWine-tasting experience to follow the yoga session.\n\nEssential 
 for Attendees:\n\nComfortable yoga attire suitable for movement.\n\nYoga m
 at and water bottle.\n\nOpenness to experiencing yoga and wine tasting in 
 a harmonious setting.\n\nParking Option: Not specified in the provided inf
 ormation.\n\nRefund Policy: Contact the organizer to request a refund. Eve
 ntbrite's fee is nonrefundable.
ATTACH;FMTTYPE=image/jpeg:https://breatheatlanta.us/wp-content/uploads/202
 4/03/7895465.jpg
CATEGORIES:Wellness Events,Yoga Events
LOCATION:Vinoteca\,  299 North Highland Avenue Northeast Suite T \, \, Atla
 nta\, United States\, 30307 \, GA \, United States
X-APPLE-STRUCTURED-LOCATION;VALUE=URI;X-ADDRESS= 299 North Highland Avenue 
 Northeast Suite T \, \, Atlanta\, United States\, 30307 \, GA \, United St
 ates;X-APPLE-RADIUS=100;X-TITLE=Vinoteca:geo:0,0
END:VEVENT
BEGIN:VTIMEZONE
TZID:America/New_York
X-LIC-LOCATION:America/New_York
BEGIN:DAYLIGHT
DTSTART:20240310T030000
TZOFFSETFROM:-0500
TZOFFSETTO:-0400
TZNAME:EDT
END:DAYLIGHT
END:VTIMEZONE
END:VCALENDAR