BEGIN:VCALENDAR
VERSION:2.0
PRODID:-//wp-events-plugin.com//7.2.3.1//EN
TZID:America/New_York
X-WR-TIMEZONE:America/New_York
BEGIN:VEVENT
UID:529@breatheatlanta.us
DTSTART;TZID=America/New_York:20241019T073000
DTEND;TZID=America/New_York:20241019T100000
DTSTAMP:20240930T120059Z
URL:https://breatheatlanta.us/events/alpharetta-womens-half-marathon-cours
 e-preview-run/
SUMMARY:Alpharetta Women's Half Marathon Course Preview Run
DESCRIPTION:Join experienced running coach Betsy Magato\, the owner of Stro
 ng Run Coaching\, for an engaging and insightful course preview run design
 ed for the Alpharetta Women's Half Marathon. Participants will gather in f
 ront of The Hotel at Avalon\, Autograph Collection\, where they'll receive
  a firsthand look at the race route. Whether you're aiming for the 13.1-mi
 le course or the 10-mile option\, this event offers valuable race strategi
 es\, making it perfect for both veteran runners and those new to half mara
 thons. It’s an excellent opportunity to familiarize yourself with the co
 urse\, meet like-minded runners\, and build confidence ahead of race day. 
 Lace up your running shoes and get ready to conquer the miles with support
  from the running community!\n\nGET TICKETS\n
ATTACH;FMTTYPE=image/jpeg:https://breatheatlanta.us/wp-content/uploads/202
 4/09/Alpharetta-Womens-Half-Marathon-Course-Preview-Run.jpg
CATEGORIES:Sports &amp; Fitness Events
LOCATION:The Hotel at Avalon\, 9000 Avalon Boulevard\, Alpharetta\, Georgia
 \, 30009\, GA\, United States
X-APPLE-STRUCTURED-LOCATION;VALUE=URI;X-ADDRESS=9000 Avalon Boulevard\, Alp
 haretta\, Georgia\, 30009\, GA\, United States;X-APPLE-RADIUS=100;X-TITLE=
 The Hotel at Avalon:geo:0,0
END:VEVENT
BEGIN:VTIMEZONE
TZID:America/New_York
X-LIC-LOCATION:America/New_York
BEGIN:DAYLIGHT
DTSTART:20240310T030000
TZOFFSETFROM:-0500
TZOFFSETTO:-0400
TZNAME:EDT
END:DAYLIGHT
END:VTIMEZONE
END:VCALENDAR