BEGIN:VCALENDAR
VERSION:2.0
PRODID:-//wp-events-plugin.com//7.2.3.1//EN
TZID:America/New_York
X-WR-TIMEZONE:America/New_York
BEGIN:VEVENT
UID:508@breatheatlanta.us
DTSTART;TZID=America/New_York:20241024T000000
DTEND;TZID=America/New_York:20241031T011500
DTSTAMP:20240928T070623Z
URL:https://breatheatlanta.us/events/an-evening-with-witches/
SUMMARY:An Evening with Witches
DESCRIPTION:Attendees are invited to step back in time for An Evening with 
 Witches\, a captivating and immersive theatrical experience that delves in
 to the enchanting yet cautionary tales of witchcraft. This event promises 
 to transport guests into a world where the allure of dark magic has profou
 nd consequences\, weaving a narrative that is both thrilling and thought-p
 rovoking.\n\nThroughout the evening\, participants can expect to enjoy fou
 r meticulously crafted cocktails that complement the thematic journey thro
 ugh the mysterious realm of witches. Each drink is designed to evoke the e
 ssence of the stories being told\, enhancing the overall atmosphere of the
  event.\n\nAs the evening unfolds\, guests will be mesmerized by the tales
  of witches\, filled with enchanting lore and cautionary lessons. They wil
 l witness the brewing of potions\, listen to the haunting stories of those
  who have danced too closely with dark magic\, and receive important warni
 ngs that resonate especially during the Halloween season.\n\nThe experienc
 e is not just about storytelling\; it invites participants to engage activ
 ely\, allowing them to feel as if they are part of the narrative. This uni
 que blend of theater\, mixology\, and historical exploration creates a one
 -of-a-kind event perfect for those looking to celebrate the spirit of Hall
 oween in a memorable way.\n\nAn Evening with Witches is more than just an 
 event\; it’s an invitation to explore the mystical and the unknown\, mak
 ing it a must-attend for anyone fascinated by the enigmatic world of witch
 craft. Join in for a night of intrigue\, cocktails\, and captivating tales
  that will linger long after the final curtain falls.\n\nGET TICKETS\n
ATTACH;FMTTYPE=image/jpeg:https://breatheatlanta.us/wp-content/uploads/202
 4/09/An-Evening-with-Witches.jpg
CATEGORIES:Things To Do
LOCATION:Condo 323\, 323 Edgewood Avenue Southeast UNIT A\, Atlanta\, Georg
 ia\, 30312\, GA\, United States
X-APPLE-STRUCTURED-LOCATION;VALUE=URI;X-ADDRESS=323 Edgewood Avenue Southea
 st UNIT A\, Atlanta\, Georgia\, 30312\, GA\, United States;X-APPLE-RADIUS=
 100;X-TITLE=Condo 323:geo:0,0
END:VEVENT
BEGIN:VTIMEZONE
TZID:America/New_York
X-LIC-LOCATION:America/New_York
BEGIN:DAYLIGHT
DTSTART:20240310T030000
TZOFFSETFROM:-0500
TZOFFSETTO:-0400
TZNAME:EDT
END:DAYLIGHT
END:VTIMEZONE
END:VCALENDAR