BEGIN:VCALENDAR
VERSION:2.0
PRODID:-//wp-events-plugin.com//7.2.3.1//EN
TZID:America/New_York
X-WR-TIMEZONE:America/New_York
BEGIN:VEVENT
UID:568@breatheatlanta.us
DTSTART;TZID=America/New_York:20241101T153000
DTEND;TZID=America/New_York:20241101T190000
DTSTAMP:20241008T153805Z
URL:https://breatheatlanta.us/events/an-interactive-art-therapy-soap-exper
 ience/
SUMMARY:An Interactive Art Therapy Soap Experience
DESCRIPTION:The Interactive Art Therapy Soap Experience offers a distinctiv
 e opportunity for individuals to delve into the therapeutic benefits of ar
 t and soap-making. Scheduled every Monday\, Tuesday\, Wednesday\, and Frid
 ay at 305 Peter Street Southwest\, Atlanta\, GA 30313\, this event promise
 s an evening rich in creativity and self-expression.\n\nParticipants will 
 engage in hands-on activities that blend the healing aspects of art therap
 y with the enjoyable and sensory experience of crafting personalized soap 
 bars. No previous soap-making experience is required\, making this event a
 ccessible to everyone.\n\nSet in a supportive and non-judgmental environme
 nt\, attendees can freely explore their emotions and thoughts through arti
 stic expression. Guided by experienced art therapists\, participants will 
 learn various techniques and receive gentle encouragement throughout the p
 rocess.\n\nAll necessary materials are provided\, allowing individuals to 
 come as they are and enjoy a relaxing evening of creativity. Whether seeki
 ng to unwind\, destress\, or simply try something new\, this event offers 
 a refreshing and enjoyable experience that fosters rejuvenation.\n\nDon’
 t miss the chance to engage your senses\, connect with like-minded individ
 uals\, and discover the therapeutic power of art and soap-making. Secure y
 our spot today and join the Interactive Art Therapy Soap Experience!\n\nGE
 T TICKETS\n
ATTACH;FMTTYPE=image/jpeg:https://breatheatlanta.us/wp-content/uploads/202
 4/10/An-Interactive-Art-Therapy-Soap-Experience.jpeg
CATEGORIES:Wellness Events
LOCATION:305 Peters St SW 306 b\, 305 Peters Street Southwest\, Los Angeles
 \, California\, 30313\, GA\, United States
X-APPLE-STRUCTURED-LOCATION;VALUE=URI;X-ADDRESS=305 Peters Street Southwest
 \, Los Angeles\, California\, 30313\, GA\, United States;X-APPLE-RADIUS=10
 0;X-TITLE=305 Peters St SW 306 b:geo:0,0
END:VEVENT
BEGIN:VTIMEZONE
TZID:America/New_York
X-LIC-LOCATION:America/New_York
BEGIN:DAYLIGHT
DTSTART:20240310T030000
TZOFFSETFROM:-0500
TZOFFSETTO:-0400
TZNAME:EDT
END:DAYLIGHT
END:VTIMEZONE
END:VCALENDAR