BEGIN:VCALENDAR
VERSION:2.0
PRODID:-//wp-events-plugin.com//7.2.3.1//EN
TZID:America/New_York
X-WR-TIMEZONE:America/New_York
BEGIN:VEVENT
UID:537@breatheatlanta.us
DTSTART;TZID=America/New_York:20241024T090000
DTEND;TZID=America/New_York:20241024T170000
DTSTAMP:20241001T113040Z
URL:https://breatheatlanta.us/events/anger-management-1-day-workshop-in-sa
 ndy-springs-ga/
SUMMARY:Anger Management 1 Day Workshop in Sandy Springs\, GA
DESCRIPTION:This in-person\, one-day workshop in Sandy Springs\, GA\, is de
 signed for individuals seeking to develop effective anger management skill
 s. Participants will learn various strategies and techniques to better con
 trol their emotions\, manage anger in challenging situations\, and use it 
 constructively rather than destructively.\n\nCourse Overview:\n\n 	Certifi
 cate: Course Completion Certificate\n 	Language: English\n 	Duration: 1 Da
 y\n 	Credits: 8 PDUs\n 	Format: Classroom setting (Food and beverages prov
 ided)\n\nCourse Description: Anger is a powerful emotion that can have bot
 h positive and negative effects on physical and emotional health. This wor
 kshop focuses on helping participants channel anger in healthy ways\, turn
 ing it into a motivational tool for self-improvement and boundary-setting.
  Attendees will gain practical tools to manage their own anger and underst
 and how to handle anger in others. Through engaging activities and deep in
 trospection\, participants will explore the root causes of their anger and
  learn alternative methods of expression.\n\nTarget Audience: This worksho
 p is open to anyone interested in mastering anger management skills\, rega
 rdless of prior experience.\n\nLearning Objectives: By the end of the work
 shop\, participants will:\n\n 	Grasp the essential skill set and mindset t
 o manage anger constructively.\n 	Learn to express angry feelings assertiv
 ely while being considerate of others' needs.\n 	Differentiate between pro
 ductive and destructive anger and adopt a positive attitude towards managi
 ng emotions.\n 	Apply practical techniques for managing anger in themselve
 s and others.\n\nAgenda:\n\n 	Module 1: Understanding the Anatomy of Anger
 \n 	Module 2: Building the Anger Management Skill Set\n 	Module 3: The Ang
 er Management Process\n 	Module 4: Strategies for Managing Anger in Others
 \n\nPrerequisites: None\n\nCourse Materials:\nParticipants will receive a 
 course manual containing presentation slides and reference materials.\n\nT
 echnical Requirements (for eBooks):\n\n 	Internet access for eBook downloa
 ds\n 	Devices: Laptop\, tablet\, smartphone\, or eReader (except Kindle)\n
  	Software: Adobe DRM-supported applications (e.g.\, Digital Editions\, Bl
 uefire Reader)\n\nWorkshop Benefits:\n\n 	Improved Team Dynamics and Commu
 nication:\nEnhances communication and conflict resolution skills\, leading
  to a more harmonious and productive workplace.\n 	Emotional Intelligence 
 Development:\nPromotes emotional intelligence by helping individuals bette
 r understand and manage their emotions\, which leads to increased empathy 
 and self-awareness.\n 	Increased Productivity and Employee Morale:\nReduce
 s the negative impacts of conflicts and boosts morale\, resulting in a mor
 e supportive and stress-free environment.\n 	Cost Savings on Conflict Reso
 lution:\nReduces the need for external interventions and minimizes legal f
 ees related to workplace disputes.\n 	Enhanced Leadership Skills:\nProvide
 s leaders with tools to de-escalate anger\, fostering a positive leadershi
 p culture that prioritizes emotional well-being.\n 	Risk Mitigation and Co
 mpliance:\nEnsures compliance with workplace safety regulations by promoti
 ng a respectful and safe work environment\, mitigating the risk of workpla
 ce aggression.\n 	Better Customer Relations:\nEmployees who manage anger e
 ffectively are better able to handle customer challenges with professional
 ism\, improving customer satisfaction and enhancing the company’s reputa
 tion.\n 	Reduced Employee Turnover:\nA positive\, supportive work environm
 ent contributes to lower stress and higher job satisfaction\, reducing tur
 nover and improving retention rates.\n\nCorporate Enquiries: For organizat
 ions interested in hosting this workshop on-site\, please contact us at co
 rporate@mangates.com to schedule a session for your team.\n\nGET TICKETS\n
ATTACH;FMTTYPE=image/jpeg:https://breatheatlanta.us/wp-content/uploads/202
 4/10/Anger-Management-1-Day-Workshop-in-Sandy-Springs-GA.jpg
CATEGORIES:Things To Do
LOCATION:Sandy Springs Sandy Springs\, northern Fulton County\, Atlanta\, G
 eorgia\, 30168\, GA\, United States
X-APPLE-STRUCTURED-LOCATION;VALUE=URI;X-ADDRESS=northern Fulton County\, At
 lanta\, Georgia\, 30168\, GA\, United States;X-APPLE-RADIUS=100;X-TITLE=Sa
 ndy Springs Sandy Springs:geo:0,0
END:VEVENT
BEGIN:VTIMEZONE
TZID:America/New_York
X-LIC-LOCATION:America/New_York
BEGIN:DAYLIGHT
DTSTART:20240310T030000
TZOFFSETFROM:-0500
TZOFFSETTO:-0400
TZNAME:EDT
END:DAYLIGHT
END:VTIMEZONE
END:VCALENDAR