BEGIN:VCALENDAR
VERSION:2.0
PRODID:-//wp-events-plugin.com//7.2.3.1//EN
TZID:America/New_York
X-WR-TIMEZONE:America/New_York
BEGIN:VEVENT
UID:744@breatheatlanta.us
DTSTART;TZID=America/New_York:20241213T120000
DTEND;TZID=America/New_York:20241213T150000
DTSTAMP:20241204T092716Z
URL:https://breatheatlanta.us/events/anime-soiree-x-awa-poke-pop-paradise/
SUMMARY:Anime Soirée X AWA: Poké-POP Paradise
DESCRIPTION:Get ready for an electrifying fusion of fandoms as Anime Soiré
 e teams up with Anime Weekend Atlanta to deliver an unforgettable event: P
 oké-POP Paradise. This dynamic collaboration brings together the best of 
 anime\, K-POP\, and cosplay in a high-energy rave experience that promises
  to transport fans into a dazzling world of music\, dance\, and immersive 
 culture.\nA Celebration of Anime\, K-POP\, and Cosplay\n\n 	Anime Awesomen
 ess: Immerse yourself in the art\, stories\, and characters that define an
 ime culture. Whether you're a lifelong otaku or a newcomer to the genre\, 
 this event is a celebration of the vibrant world of Japanese animation.\n 
 	K-POP Beats: Dance the night away to the infectious rhythms of K-POP\, wi
 th a curated playlist of fan-favorite hits and electrifying performances t
 hat will keep the energy soaring.\n 	Cosplay Extravaganza: Flaunt your cre
 ativity and fandom pride by dressing as your favorite characters. Whether 
 you're channeling a Pokémon Trainer\, a K-POP idol\, or a beloved anime p
 rotagonist\, the cosplay scene at Poké-POP Paradise is sure to be a visua
 l feast.\n\nWhat to Expect\n\n 	Rave Atmosphere: The event transforms the 
 venue into a pulsating paradise of neon lights\, electrifying beats\, and 
 an inclusive community of fans.\n 	Interactive Experiences: From themed ph
 oto booths to pop-up shops featuring anime and K-POP merchandise\, there
 ’s something for everyone to enjoy.\n 	Special Guests: Keep an eye out f
 or appearances by popular DJs\, performers\, and influencers who will add 
 their star power to the event.\n\nFor Fans\, By Fans\nThe collaboration be
 tween Anime Soirée and Anime Weekend Atlanta ensures that every detail of
  Poké-POP Paradise is designed with fans in mind. It’s more than just a
 n event—it’s a celebration of the shared passion that unites anime and
  K-POP enthusiasts across the globe.\n\nWhether you’re there to dance\, 
 cosplay\, or connect with fellow fans\, Poké-POP Paradise is the ultimate
  destination for an unforgettable night of fandom fusion. Get ready to rev
 el in the magic of anime\, K-POP\, and cosplay like never before!\n\nGET T
 ICKETS\n
ATTACH;FMTTYPE=image/jpeg:https://breatheatlanta.us/wp-content/uploads/202
 4/12/Anime-Soiree-X-AWA-Poke-POP-Paradise.jpg
CATEGORIES:Arts &amp; Performances,Things To Do
LOCATION:Georgia World Congress Center - Building C\, 285 Andrew Young Inte
 rnational Boulevard Northwest Atlanta\, Atlanta\, Georgia\, 30313\, GA\, U
 nited States
X-APPLE-STRUCTURED-LOCATION;VALUE=URI;X-ADDRESS=285 Andrew Young Internatio
 nal Boulevard Northwest Atlanta\, Atlanta\, Georgia\, 30313\, GA\, United 
 States;X-APPLE-RADIUS=100;X-TITLE=Georgia World Congress Center - Building
  C:geo:0,0
END:VEVENT
BEGIN:VTIMEZONE
TZID:America/New_York
X-LIC-LOCATION:America/New_York
BEGIN:STANDARD
DTSTART:20241103T010000
TZOFFSETFROM:-0400
TZOFFSETTO:-0500
TZNAME:EST
END:STANDARD
END:VTIMEZONE
END:VCALENDAR