BEGIN:VCALENDAR
VERSION:2.0
PRODID:-//wp-events-plugin.com//7.2.3.1//EN
TZID:America/New_York
X-WR-TIMEZONE:America/New_York
BEGIN:VEVENT
UID:363@breatheatlanta.us
DTSTART;TZID=America/New_York:20240815T120000
DTEND;TZID=America/New_York:20240815T160000
DTSTAMP:20240730T072218Z
URL:https://breatheatlanta.us/events/ara-fmls-showcase-2024/
SUMMARY:ARA/FMLS SHOWCASE 2024
DESCRIPTION:The ARA/FMLS Showcase 2024 is set to take place at the stunning
  Coca-Cola Roxy at The Battery on Thursday\, August 15th. This premier eve
 nt brings together REALTORS®\, real estate professionals\, and industry a
 ffiliates for an afternoon of insightful presentations and valuable networ
 king opportunities.\n\nEvent Schedule:\n\n12:00 PM - 1:30 PM: Networking L
 unch and Bar Service The day begins with a vibrant networking session feat
 uring a lunch buffet and bar service. Attendees will have the opportunity 
 to connect with a diverse array of vendors and community partners who will
  showcase their products and services. This year's event boasts an expande
 d selection of vendors\, reflecting the dynamic nature of the real estate 
 industry.\n\n1:30 PM - 4:00 PM: Engaging Presentations and Panels\n\n 	Wel
 come Remarks: The event kicks off with a warm welcome from the hosts.\n 	F
 ireside Chat: A thought-provoking discussion between ARA President Kelly G
 uin Thrash and FMLS President &amp\; CEO Jeremy Crawford.\n 	Selma Hepp: C
 oreLogic’s Chief Economist will share her insights on the latest market 
 trends.\n 	David Boehmig: ARA Past President\, in conversation with Kathar
 ine Oates\, Senior Partner at Weissman and co-author of Done Deal: A Real 
 Estate Agent’s Guide to Mastering Negotiations.\n 	Kevin Williams: The b
 estselling author of Irrational Kindness: A Crazy Pursuit of an Extraordin
 ary Life will provide inspiration and practical advice.\n 	Clyde Higgs: Pr
 esident &amp\; CEO of Atlanta Beltline Inc. will discuss the future of urb
 an development in Atlanta.\n\n4:00 PM: Raffle Drawing and Event Conclusion
  The event will conclude with a 50/50 raffle\, with proceeds benefiting th
 e Atlanta REALTORS® Impact Foundation. This is your chance to support a g
 reat cause while potentially winning a fantastic prize.\n\nJoin us for an 
 exceptional day of learning\, networking\, and innovation at the ARA/FMLS 
 Showcase 2024. Don’t miss this unique opportunity to engage with leaders
  in the real estate industry and gain insights that can propel your career
  forward.\n\nGET TICKETS\n
ATTACH;FMTTYPE=image/jpeg:https://breatheatlanta.us/wp-content/uploads/202
 4/07/ARA_FMLS-SHOWCASE-2024.jpg
CATEGORIES:Arts &amp; Performances,Mindfulness Events,Things To Do
LOCATION:Coca-Cola Roxy\, 800 Battery Avenue Southeast #500 Atlanta\, Atlan
 ta\, Georgia\, 30339\, GA \, United States
X-APPLE-STRUCTURED-LOCATION;VALUE=URI;X-ADDRESS=800 Battery Avenue Southeas
 t #500 Atlanta\, Atlanta\, Georgia\, 30339\, GA \, United States;X-APPLE-R
 ADIUS=100;X-TITLE=Coca-Cola Roxy:geo:0,0
END:VEVENT
BEGIN:VTIMEZONE
TZID:America/New_York
X-LIC-LOCATION:America/New_York
BEGIN:DAYLIGHT
DTSTART:20240310T030000
TZOFFSETFROM:-0500
TZOFFSETTO:-0400
TZNAME:EDT
END:DAYLIGHT
END:VTIMEZONE
END:VCALENDAR