BEGIN:VCALENDAR
VERSION:2.0
PRODID:-//wp-events-plugin.com//7.2.3.1//EN
TZID:America/New_York
X-WR-TIMEZONE:America/New_York
BEGIN:VEVENT
UID:745@breatheatlanta.us
DTSTART;TZID=America/New_York:20250306T180000
DTEND;TZID=America/New_York:20250306T220000
DTSTAMP:20241225T202602Z
URL:https://breatheatlanta.us/events/arouse-a-ceremony-of-erotic-theater-t
 o-arouse-consciousness/
SUMMARY:Arouse – A Ceremony of Erotic Theater to Arouse Consciousness
DESCRIPTION:Awaken Your Spirit: Arouse – A Ceremony of Erotic Theater to 
 Ignite Consciousness\n\nStep into a realm where sensuality meets spiritual
 ity and self-awareness intertwines with the divine. “Arouse” is not ju
 st an event\; it’s a transformative journey designed to awaken your cons
 ciousness and stimulate profound connections—with yourself\, others\, an
 d the sacred.\nEvent Details\n&nbsp\;\n\nThis one-of-a-kind experience mer
 ges the captivating art of erotic theater with ceremonial rituals\, creati
 ng a safe\, sacred space to explore the depths of your emotions\, desires\
 , and spiritual essence. In this dynamic interplay of symbolism\, celebrat
 ion\, and sensuality\, participants are invited to embrace their vulnerabi
 lity\, honor their boundaries\, and discover the liberation that comes wit
 h self-acceptance.\nWhat Awaits You at “Arouse”?\nThrough a series of 
 immersive rituals and mesmerizing performances\, you’ll embark on a jour
 ney of self-discovery and connection:\n\n 	Awaken Your Senses: Engage with
  thoughtfully curated ceremonies designed to honor sexual energy and foste
 r mindfulness.\n 	Heal and Empower: Address past traumas\, honor your boun
 daries\, and step into your full potential\, guided by supportive facilita
 tors.\n 	Celebrate Consent and Connection: Discover the beauty of the sacr
 ed “No” and the transformative power of the sacred “Yes” to yourse
 lf.\n 	Experience Ritualistic Theater: Witness and participate in a celebr
 ation where eroticism becomes a gateway to spiritual awakening.\n\nThis jo
 urney is about embracing the energy of your sexuality with gratitude and l
 ove\, transforming it into a force of empowerment and divine connection.\n
 \n\n\nEvent Schedule\n6:00 PM: Doors Open – DJ Magnetic sets the mood\n6
 :30 PM: DJ Jkali takes the stage\n7:30 PM: Doors Close – Ceremony begins
 \n7:30 PM: Opening Ceremony with Giselle World &amp\; Kaheal\n8:00 PM: Ero
 s Contact Dance led by Kaheal\n8:30 PM: DJ Kaheal + Quixotic Prayerformanc
 es – A blend of music\, movement\, and ritual\n10:00 PM: Closing Ceremon
 y and Integration with Giselle World and Kaheal\n\n\n\nDress Code\nRed or 
 Black Casual Chic – Let your attire reflect the boldness and elegance of
  the evening.\n\n\n\nTicket Information\nTickets are priced to ensure acce
 ssibility. Choose the tier that aligns with your financial capacity\, leav
 ing more economical options for those who need them. Your support helps ma
 ke this transformative experience available to all.\n\n1. Early-Bird Gener
 al Admission\n\n 	Price: $100 (limited availability\, first 30 tickets)\
 n\n     Perks:\n\n 	Access to the full Arouse experience (general seati
 ng).\n 	Welcome cocktail or ceremonial drink upon arrival.\n 	Access to im
 mersive performances and specialty acts.\n\n2. General Admission\n\n 	Pric
 e: $150\n\n     Perks:\n\n 	Access to the full Arouse experience (gene
 ral seating).\n 	Welcome cocktail or ceremonial drink.\n\n3. VIP Admission
 \n\n 	Price: $250\n\n     Perks:\n\n 	Priority seating (near stage or 
 center areas).\n 	Welcome cocktail or ceremonial drink.\n 	Exclusive Arous
 e-themed gift (e.g.\, roses\, luxury candles\, or artisanal keepsakes).\n 
 	Dedicated VIP entry line.\n\n4. VIP Table Packages4.1. Goddess Table (Pre
 mium Experience)\n\n 	Price: $3\,000 (Seats up to 8 guests)\n\n      
 Perks:\n\n 	Premium table placement (front-row or stage-level seating).\n 
 	Personalized table decor (candles\, roses\, and fruit platters).\n 	Champ
 agne bottle service (2 premium bottles).\n 	Artisanal dessert platter (cho
 colates\, fruits\, and treats).\n 	Exclusive Arouse-themed gifts for all t
 able guests.\n 	Dedicated table concierge service.\n 	Private group photo 
 session with key performers.\n\n4.2. Elevated VIP Table\n\n 	Price: $1\,5
 00 (Seats up to 6 guests)\n\n     Perks:\n\n 	Elevated seating with ex
 cellent views of performances.\n 	Champagne bottle service (1 premium bott
 le).\n 	Shared dessert platter (fruits and chocolates).\n 	Personalized ta
 ble decor (candles and roses).\n\n4.3. Social Table\n\n 	Price: $500 (Se
 ats up to 4 guests)\n\n     Perks:\n\n 	Reserved seating with good sigh
 tlines.\n 	Shared fruit platter.\n 	Optional table upgrades (additional dr
 inks or bottle service available for purchase).\n\n5. Ultra-VIP Experience
  (Limited)\n\n 	Price: $5\,000 (only 2 packages available)\n\n      
     Perks:\n\n 	Private lounge seating for up to 6 guests.\n 	Full VIP t
 able perks (premium table decor\, 2 bottles of champagne\, fruit/dessert p
 latters).\n 	Private meet-and-greet with key performers and ceremonialist.
 \n 	Personalized Arouse luxury gift box for all guests.\n 	Dedicated on-ca
 ll concierge throughout the event.\n\n\n\n\nExperience Highlights\n\n 	Lib
 eration of the Feminine: Create a sacred space for feminine energy to thri
 ve\, supported by respectful and empowered masculine presence.\n 	Healing 
 Energy: Celebrate and honor your sexual energy as a source of power and jo
 y.\n 	Connection and Gratitude: Leave feeling rejuvenated\, empowered\, an
 d deeply connected to yourself and the divine.\n\nThis standing-room exper
 ience offers limited seating\, so come prepared to move\, feel\, and immer
 se yourself fully in the magic of “Arouse.”
ATTACH;FMTTYPE=image/jpeg:https://breatheatlanta.us/wp-content/uploads/202
 4/12/Arouse-800x400-1.jpg
CATEGORIES:Featured Events,Things To Do
LOCATION:Fox Theater\, 660 Peachtree St NE\,  Atlanta\, GA\, 30308\, United
  States
X-APPLE-STRUCTURED-LOCATION;VALUE=URI;X-ADDRESS=660 Peachtree St NE\,  Atla
 nta\, GA\, 30308\, United States;X-APPLE-RADIUS=100;X-TITLE=Fox Theater:ge
 o:0,0
END:VEVENT
BEGIN:VTIMEZONE
TZID:America/New_York
X-LIC-LOCATION:America/New_York
BEGIN:STANDARD
DTSTART:20241103T010000
TZOFFSETFROM:-0400
TZOFFSETTO:-0500
TZNAME:EST
END:STANDARD
END:VTIMEZONE
END:VCALENDAR