BEGIN:VCALENDAR
VERSION:2.0
PRODID:-//wp-events-plugin.com//7.2.3.1//EN
TZID:America/New_York
X-WR-TIMEZONE:America/New_York
BEGIN:VEVENT
UID:343@breatheatlanta.us
DTSTART;TZID=America/New_York:20240720T113000
DTEND;TZID=America/New_York:20240720T130000
DTSTAMP:20240627T080236Z
URL:https://breatheatlanta.us/events/art-making-heals-teen-art-wellness-wo
 rkshops/
SUMMARY:Art-making Heals: Teen Art Wellness Workshops
DESCRIPTION:Art-Making Heals: Teen Art Wellness Workshops offer a sanctuary
  for teenagers to discover the therapeutic power of artistic expression. T
 his monthly event\, held on the 3rd Saturday of each month\, is dedicated 
 to fostering emotional well-being and self-discovery through creativity.\n
 \nEvent Highlights:\n\n 	Themed Workshops: Each session explores a unique 
 theme and art-making process\, allowing participants to engage with divers
 e forms of creative expression.\n 	Professional Guidance: Led by experienc
 ed art therapists\, these workshops provide expert guidance and support\, 
 ensuring a safe and nurturing environment for all attendees.\n 	Holistic W
 ell-Being: The workshops adopt a holistic approach to mental health\, inte
 grating art therapy techniques that promote emotional healing\, stress rel
 ief\, and personal growth.\n 	Supportive Community: Participants will join
  a community of like-minded teens\, fostering connections and building a n
 etwork of support through shared creative experiences.\n\nJoin Us:\n\nTeen
 agers are invited to immerse themselves in a world of creativity and heali
 ng at Art-Making Heals: Teen Art Wellness Workshops. Whether dealing with 
 stress\, seeking self-expression\, or simply wanting to explore the arts\,
  these workshops provide the perfect opportunity to enhance mental and emo
 tional well-being.\n\nReserve your spot and embark on a journey of self-di
 scovery and artistic exploration with us!\n\nGET TICKETS\n
ATTACH;FMTTYPE=image/jpeg:https://breatheatlanta.us/wp-content/uploads/202
 4/06/Art-making-Heals-Teen-Art-Wellness-Workshops.jpg
CATEGORIES:Arts &amp; Performances,Mindfulness Events,Things To Do
LOCATION:Blue House Wellness\, 610 Kentucky Street Scottdale\, GA 30079 Uni
 ted States\,  GA\,  United States\, 30079\, GA\, United States
X-APPLE-STRUCTURED-LOCATION;VALUE=URI;X-ADDRESS=610 Kentucky Street Scottda
 le\, GA 30079 United States\,  GA\,  United States\, 30079\, GA\, United S
 tates;X-APPLE-RADIUS=100;X-TITLE=Blue House Wellness:geo:0,0
END:VEVENT
BEGIN:VTIMEZONE
TZID:America/New_York
X-LIC-LOCATION:America/New_York
BEGIN:DAYLIGHT
DTSTART:20240310T030000
TZOFFSETFROM:-0500
TZOFFSETTO:-0400
TZNAME:EDT
END:DAYLIGHT
END:VTIMEZONE
END:VCALENDAR