BEGIN:VCALENDAR
VERSION:2.0
PRODID:-//wp-events-plugin.com//7.2.3.1//EN
TZID:America/New_York
X-WR-TIMEZONE:America/New_York
BEGIN:VEVENT
UID:798@breatheatlanta.us
DTSTART;TZID=America/New_York:20250309T060000
DTEND;TZID=America/New_York:20250309T080000
DTSTAMP:20250216T004127Z
URL:https://breatheatlanta.us/events/art-therapy-yoga-class-with-k-jones-2
 /
SUMMARY:ART THERAPY YOGA CLASS with K. Jones
DESCRIPTION:Art Therapy Yoga Class with K. Jones – A Mindful Wellness Exp
 erience\nAs part of Buckhead Art &amp\; Company’s commitment to health a
 nd wellness\, this unique Art Therapy Yoga Class offers a space for indivi
 duals to nurture both mental and physical well-being. Led by K. Jones\, th
 is experience blends the healing benefits of yoga\, mindfulness\, and arti
 stic expression\, fostering a supportive wellness community.\n🧘 What to
  Expect:\n\n\n 	A guided yoga practice designed to promote relaxation\, ba
 lance\, and self-awareness\n 	The incorporation of art therapy techniques 
 to enhance emotional well-being\n 	A welcoming community focused on holist
 ic wellness and creative expression\n\n📌 Important Information:✅ Door
 s Open: 6:00 PM EST✅ Class Begins: 6:15 PM EST (No late entry permitted)
 🚪 For safety and to maintain a peaceful environment\, doors will be loc
 ked at the start of class. Please arrive early to allow time for parking a
 nd settling in.\n🎒 What to Bring:✔ Yoga Mat (Participants must bring 
 their own)\n🅿 Parking Details:✔ FREE parking validation is available 
 for attendees using the lower level of the North Garage only.\n📍 Join t
 he ExperienceStep into a calm and inspiring environment where movement and
  art come together to create a powerful therapeutic practice. Secure a spo
 t in this transformative session and embark on a journey of self-discovery
  and inner peace.\n✨ Move\, create\, and heal—one breath at a time. 
 ✨\n\n\nGET TICKETS\n
ATTACH;FMTTYPE=image/jpeg:https://breatheatlanta.us/wp-content/uploads/202
 5/02/ART-THERAPY-YOGA-CLASS-with-K.-Jones-1.jpg
CATEGORIES:Yoga Events
LOCATION:Buckhead Art & Company\, 286 Buckhead Avenue Northeast \, Atlanta\
 , 30305\, GA\, United States
X-APPLE-STRUCTURED-LOCATION;VALUE=URI;X-ADDRESS=286 Buckhead Avenue Northea
 st \, Atlanta\, 30305\, GA\, United States;X-APPLE-RADIUS=100;X-TITLE=Buck
 head Art & Company:geo:0,0
END:VEVENT
BEGIN:VTIMEZONE
TZID:America/New_York
X-LIC-LOCATION:America/New_York
BEGIN:DAYLIGHT
DTSTART:20250309T030000
TZOFFSETFROM:-0500
TZOFFSETTO:-0400
TZNAME:EDT
END:DAYLIGHT
END:VTIMEZONE
END:VCALENDAR