BEGIN:VCALENDAR
VERSION:2.0
PRODID:-//wp-events-plugin.com//7.2.3.1//EN
TZID:America/New_York
X-WR-TIMEZONE:America/New_York
BEGIN:VEVENT
UID:152@breatheatlanta.us
DTSTART;TZID=America/New_York:20240330T110000
DTEND;TZID=America/New_York:20240330T123000
DTSTAMP:20240326T155404Z
URL:https://breatheatlanta.us/events/art-therapy-yoga-with-serenity-sessio
 ns-xen-matcha/
SUMMARY:ART THERAPY Yoga with Serenity Sessions - XEN MATCHA
DESCRIPTION:\n\n\n\nEvent Information:\n\n\n\n\n\nEmbark on a journey of re
 laxation and restoration with a beginner yoga class filled with gentle mov
 ements and mindfulness practices. Join us for a transformative experience 
 focused on rejuvenating your mind and body.\n\n\n\n\n\n 	Date and Time: Sa
 turday\, March 30 · 11am - 12:30pm EDT\n 	Location: Buckhead Art &amp\; C
 ompany\, 288 Buckhead Avenue Northeast Atlanta\, GA 30305 United States\n\
 nAbout this Event:\n\nExperience a beginner's yoga class filled with relax
 ation\, meditation\, and restoration at Buckhead Art &amp\; Company. This 
 event is sponsored by Drip Hydration and Suja Organics\, offering free Vit
 amin B12 injections and refreshing organic beverages to enhance your welln
 ess journey.\n\nTicket Information:\n\n 	Refund Policy: Contact the organi
 zer for refund requests.\n 	Eventbrite's fee is nonrefundable.\n\n&nbsp\;\
 n\nGET TICKETS\n\nWorkout Session Detail:\n\nThe session includes gentle y
 oga for 45 minutes and a sound bowl meditation for 15 minutes.\n\nEssentia
 l for Bring:\n\n 	Yoga Mat\n\nParking Option:\n\nAvailable at Buckhead Art
  &amp\; Company.\n\nExplore a transformative yoga experience and indulge i
 n a matcha mixer\, gentle yoga\, sound bowl therapy\, and mindful self-ref
 lection in a tranquil atmosphere at Buckhead Art &amp\; Company!\n\n\n\n\n
 \n\n\n
ATTACH;FMTTYPE=image/jpeg:https://breatheatlanta.us/wp-content/uploads/202
 4/03/ART-THERAPY-Yoga.jpg
CATEGORIES:Wellness Events,Yoga Events
LOCATION:Buckhead Art & Company\, 288 Buckhead Avenue Northeast Atlanta\, G
 A 30305 United States\, Atlanta\,\, GA\, 30305\, GA\, United States
X-APPLE-STRUCTURED-LOCATION;VALUE=URI;X-ADDRESS=288 Buckhead Avenue Northea
 st Atlanta\, GA 30305 United States\, Atlanta\,\, GA\, 30305\, GA\, United
  States;X-APPLE-RADIUS=100;X-TITLE=Buckhead Art & Company:geo:0,0
END:VEVENT
BEGIN:VTIMEZONE
TZID:America/New_York
X-LIC-LOCATION:America/New_York
BEGIN:DAYLIGHT
DTSTART:20240310T030000
TZOFFSETFROM:-0500
TZOFFSETTO:-0400
TZNAME:EDT
END:DAYLIGHT
END:VTIMEZONE
END:VCALENDAR