BEGIN:VCALENDAR
VERSION:2.0
PRODID:-//wp-events-plugin.com//7.2.3.1//EN
TZID:America/New_York
X-WR-TIMEZONE:America/New_York
BEGIN:VEVENT
UID:658@breatheatlanta.us
DTSTART;TZID=America/New_York:20241026T200000
DTEND;TZID=America/New_York:20241026T235900
DTSTAMP:20241018T091845Z
URL:https://breatheatlanta.us/events/arthouse-halloween-art-show-spooky-ho
 use-party/
SUMMARY:ARTHOUSE : Halloween Art Show + Spooky House Party
DESCRIPTION:Atlanta's most anticipated art show and house party is back and
  better than ever\, just in time for Halloween! After taking a break in Se
 ptember\, ARTHOUSE: The Art Show + House Party is returning to kick off th
 e spooky season in style.\n\nThis flagship event combines the creativity o
 f an art exhibition with the lively atmosphere of a house party\, offering
  attendees an unforgettable night of art and entertainment. Picture this: 
 ten rooms filled with stunning artwork from over 35 talented artists\, all
  set in a brand-new\, three-story modern home in the heart of Atlanta.\n\n
 As guests explore the diverse art displays\, they will also enjoy a giant 
 rooftop area featuring a live DJ\, music\, and classic party games like be
 er pong. The combination of art and fun creates a truly unique experience 
 that no one should miss!\n\nThe location is kept under wraps for now\, but
  tickets are available for early purchase. Don’t miss your chance to be 
 part of this fantastic event. Tag your friends and get ready for a Hallowe
 en celebration that blends creativity\, music\, and a touch of spookiness!
 \nEvent Highlights:\n\n 	Art Exhibition: Explore ten rooms showcasing work
 s from over 35 artists.\n 	Rooftop Party: Enjoy music and dancing under th
 e stars.\n 	Games and Activities: Participate in beer pong and other fun d
 rinking games.\n\nGrab your tickets now to secure your spot\, or wait for 
 the big reveal the week of the event. Whether you're an art enthusiast or 
 just looking for a fun way to celebrate Halloween\, ARTHOUSE promises to b
 e a night to remember!\n\nGET TICKETS\n
ATTACH;FMTTYPE=image/jpeg:https://breatheatlanta.us/wp-content/uploads/202
 4/10/ARTHOUSE-Halloween-Art-Show-Spooky-House-Party.jpg
CATEGORIES:Arts &amp; Performances,Things To Do
LOCATION:Atlanta\, Atlanta Atlanta\, Atlanta\, Georgia\, 30308\,  GA\, Unit
 ed States
X-APPLE-STRUCTURED-LOCATION;VALUE=URI;X-ADDRESS=Atlanta Atlanta\, Atlanta\,
  Georgia\, 30308\,  GA\, United States;X-APPLE-RADIUS=100;X-TITLE=Atlanta:
 geo:0,0
END:VEVENT
BEGIN:VTIMEZONE
TZID:America/New_York
X-LIC-LOCATION:America/New_York
BEGIN:DAYLIGHT
DTSTART:20240310T030000
TZOFFSETFROM:-0500
TZOFFSETTO:-0400
TZNAME:EDT
END:DAYLIGHT
END:VTIMEZONE
END:VCALENDAR