BEGIN:VCALENDAR
VERSION:2.0
PRODID:-//wp-events-plugin.com//7.2.3.1//EN
TZID:America/New_York
X-WR-TIMEZONE:America/New_York
BEGIN:VEVENT
UID:349@breatheatlanta.us
DTSTART;TZID=America/New_York:20240726T180000
DTEND;TZID=America/New_York:20240726T200000
DTSTAMP:20240627T111842Z
URL:https://breatheatlanta.us/events/artistry-in-bloom-a-networking-garden
 -party/
SUMMARY:Artistry in Bloom: A Networking Garden Party
DESCRIPTION:\n\n\n\nExperience the allure of "Artistry in Bloom: A Networki
 ng Garden Party\," where guests are invited to enter a botanical haven ado
 rned in their most elegant summer garden attire. This enchanting evening p
 romises a unique blend of networking and natural beauty\, set against the 
 backdrop of meticulously arranged floral displays by a renowned Atlanta fl
 orist.\n\n\n\n\n\n\n\n\n\n\n\nAttendees will delight in garden-inspired cu
 linary delights and refreshing cocktails\, meticulously curated to complem
 ent the ambiance and enhance the social atmosphere. As guests mingle amids
 t the lush surroundings\, they'll have the opportunity to capture pictures
 que moments and engage in meaningful conversations with like-minded profes
 sionals and enthusiasts.\n\nThis event offers more than just networking—
 it's a celebration of creativity and connection within a serene garden set
 ting. Whether you're looking to expand your professional circle\, foster n
 ew collaborations\, or simply enjoy an evening immersed in nature's splend
 or\, "Artistry in Bloom" promises an unforgettable experience. Don't miss 
 your chance to indulge in this blend of socializing and scenic splendor. M
 ark your calendars and prepare to revel in the beauty of this botanical pa
 radise!\n\nGET TICKETS\n\n\n\n\n\n\n
ATTACH;FMTTYPE=image/jpeg:https://breatheatlanta.us/wp-content/uploads/202
 4/06/Artistry-in-Bloom-A-Networking-Garden-Party.jpg
CATEGORIES:Arts &amp; Performances,Mindfulness Events,Things To Do
LOCATION:Hotel Indigo Atlanta Downtown\, 230 Peachtree Street Northeast Atl
 anta\,  GA\,  United States\, 30303\, GA\, United States
X-APPLE-STRUCTURED-LOCATION;VALUE=URI;X-ADDRESS=230 Peachtree Street Northe
 ast Atlanta\,  GA\,  United States\, 30303\, GA\, United States;X-APPLE-RA
 DIUS=100;X-TITLE=Hotel Indigo Atlanta Downtown:geo:0,0
END:VEVENT
BEGIN:VTIMEZONE
TZID:America/New_York
X-LIC-LOCATION:America/New_York
BEGIN:DAYLIGHT
DTSTART:20240310T030000
TZOFFSETFROM:-0500
TZOFFSETTO:-0400
TZNAME:EDT
END:DAYLIGHT
END:VTIMEZONE
END:VCALENDAR