BEGIN:VCALENDAR
VERSION:2.0
PRODID:-//wp-events-plugin.com//7.2.3.1//EN
TZID:America/New_York
X-WR-TIMEZONE:America/New_York
BEGIN:VEVENT
UID:198@breatheatlanta.us
DTSTART;TZID=America/New_York:20240420T104500
DTEND;TZID=America/New_York:20240420T133000
DTSTAMP:20240401T063834Z
URL:https://breatheatlanta.us/events/ashtanga-yoga-breathwork-meditation/
SUMMARY:Ashtanga Yoga\, Breathwork & Meditation
DESCRIPTION:\n\n\n\n\n\n\n\n\n\n\n\n\n Sava\, KPJAI authorized teacher and
  studio owner\, invite you to a special session of Ashtanga Yoga\, pranaya
 ma\, and meditation.\n\nEvent Information:\n\nEvent Name: Ashtanga Yoga\, 
 Breathwork &amp\; Meditation\n\nDate and Time: Saturday\, April 20\, 10:45
  AM - 1:30 PM EDT\n\nLocation: Mysore Yoga Atlanta\, 6050 Sandy Springs Ci
 rcle\, Sandy Springs\, GA 30328\, United States\n\nTicket Price:\n\nGenera
 l Admission: $60.00\n\nSubtotal: $60.00\n\nFees: $5.87\n\nSales Tax: $5.10
 \n\nTotal: $70.97\n\nGET TICKETS\n\n\n\nAbout this Event: Simone Santos an
 d her teacher\, Sava\, KPJAI authorized teacher and studio owner\, for a s
 pecial session of Ashtanga Yoga\, breathwork\, and meditation. This class 
 offers a unique opportunity to experience authentic Ashtanga Yoga led by o
 ne of only three authorized teachers in Georgia\, trained in India under t
 he guidance of Sharath Jois. Beyond physical poses\, explore philosophy\, 
 pranayama\, and meditation\, enriching your understanding and approach to 
 yoga.\n\nWorkout Session Detail:\n\nDuration: 2 hours 45 minutes\n\nSchedu
 le:\n\n10:45 AM: Check-in @ Mysore Yoga Atlanta &amp\; Introductions\n\n11
 :00 AM: Ashtanga Yoga Class (Asanas)\n\n12:00 PM: Break\n\n12:15 PM: Prana
 yama (Breathwork) &amp\; Meditation\n\n01:10 PM: Tea &amp\; Group Gatherin
 g\n\nEssentials to Bring:\n\nYoga mat\n\nBlanket\n\nAny other props for co
 mfort during practice\n\nTowel\n\nHydration (please hydrate before practic
 e)\n\nParking Option: Available at Mysore Yoga Atlanta.\n\nRefund Policy: 
 Contact the organizer to request a refund. Eventbrite's fee is nonrefundab
 le.\n\nImmerse yourself in this transformative journey of yoga\, breathwor
 k\, and meditation. Simone and Sava eagerly await your presence in this sa
 cred space of healing and growth.\n\n\n\n\n\n\n\n\n\n\n\n\n\n
ATTACH;FMTTYPE=image/jpeg:https://breatheatlanta.us/wp-content/uploads/202
 4/04/https___cdn.evbuc_.com_images_730604259_760092037653_1_original.jpeg
CATEGORIES:Wellness Events,Yoga Events
LOCATION:Mysore Yoga Atlanta\,  6050 Sandy Springs Circle Sandy Springs\, G
 A 30328 United States\, GA \, United States\, 30328 \,  GA \, United State
 s
X-APPLE-STRUCTURED-LOCATION;VALUE=URI;X-ADDRESS= 6050 Sandy Springs Circle 
 Sandy Springs\, GA 30328 United States\, GA \, United States\, 30328 \,  G
 A \, United States;X-APPLE-RADIUS=100;X-TITLE=Mysore Yoga Atlanta:geo:0,0
END:VEVENT
BEGIN:VTIMEZONE
TZID:America/New_York
X-LIC-LOCATION:America/New_York
BEGIN:DAYLIGHT
DTSTART:20240310T030000
TZOFFSETFROM:-0500
TZOFFSETTO:-0400
TZNAME:EDT
END:DAYLIGHT
END:VTIMEZONE
END:VCALENDAR