BEGIN:VCALENDAR
VERSION:2.0
PRODID:-//wp-events-plugin.com//7.2.3.1//EN
TZID:America/New_York
X-WR-TIMEZONE:America/New_York
BEGIN:VEVENT
UID:282@breatheatlanta.us
DTSTART;TZID=America/New_York:20240601T120000
DTEND;TZID=America/New_York:20240601T180000
DTSTAMP:20240515T121722Z
URL:https://breatheatlanta.us/events/atl-fit-fest-ultimate-fitness-experie
 nce/
SUMMARY:ATL Fit Fest: Ultimate Fitness Experience
DESCRIPTION:Join us for a day of fitness\, fun\, and wellness inspiration a
 t the ATL Fit Fest!\n\nEvent Details:\n\n 	Date: June 1st\n 	Location: Und
 erground Atlanta\, 50 Upper Alabama St\, Atlanta\, GA 30303\n 	Time: 12:00
  pm - 6:00 pm\n 	Schedule:\n\n 	Workout Session: 12:00 pm - 2:00 pm\n 	Blo
 ck Party: 2:00 pm - 6:00 pm\n\n\n\nEvent Highlights:\n\n 	Dynamic Fitness 
 Circuits: Energize your body with dynamic workout circuits designed to cha
 llenge and inspire.\n 	Healthy Eating Demos and Nutrition Tips: Discover t
 he secrets to maintaining a balanced diet with engaging demos and nutritio
 n tips.\n 	Nutritional Workshops: Dive deeper into nutrition with informat
 ive workshops led by experts in the field.\n 	Fitness Challenges and Conte
 sts: Test your strength\, endurance\, and agility in exciting fitness chal
 lenges and contests.\n 	Vendor Booths with Wellness Products: Explore a va
 riety of wellness products and services offered by our vendors.\n 	Live DJ
  and Music: Groove to the beats of our live DJ\, keeping you motivated and
  moving throughout the event.\n 	Giveaways and Prizes: Enter to win exciti
 ng giveaways and prizes\, adding an extra layer of excitement to your day.
 \n\n&nbsp\;\n\nGET TICKETS\n
ATTACH;FMTTYPE=image/jpeg:https://breatheatlanta.us/wp-content/uploads/202
 4/05/https___cdn.evbuc_.com_images_706060559_244640390684_1_original.jpg
CATEGORIES:Sports &amp; Fitness Events
LOCATION:Underground Atlanta\, 50 Upper Alabama Street Atlanta\, Atlanta\, 
 GA\, 30303\, United States
X-APPLE-STRUCTURED-LOCATION;VALUE=URI;X-ADDRESS=50 Upper Alabama Street Atl
 anta\, Atlanta\, GA\, 30303\, United States;X-APPLE-RADIUS=100;X-TITLE=Und
 erground Atlanta:geo:0,0
END:VEVENT
BEGIN:VTIMEZONE
TZID:America/New_York
X-LIC-LOCATION:America/New_York
BEGIN:DAYLIGHT
DTSTART:20240310T030000
TZOFFSETFROM:-0500
TZOFFSETTO:-0400
TZNAME:EDT
END:DAYLIGHT
END:VTIMEZONE
END:VCALENDAR