BEGIN:VCALENDAR
VERSION:2.0
PRODID:-//wp-events-plugin.com//7.2.3.1//EN
TZID:America/New_York
X-WR-TIMEZONE:America/New_York
BEGIN:VEVENT
UID:86@breatheatlanta.us
DTSTART;TZID=America/New_York:20240301T120000
DTEND;TZID=America/New_York:20240301T140000
DTSTAMP:20240319T051833Z
URL:https://breatheatlanta.us/events/atl-fit-fest/
SUMMARY:ATL Fit Fest
DESCRIPTION:\n\n\n\n\n\n\n\n\n\n\n\n\nExperience the ultimate fusion of fit
 ness\, music\, culinary delights\, and more at our Fitness Festival! Immer
 se yourself in a dynamic atmosphere where energizing workouts meet live mu
 sic\, tantalizing food from local vendors\, and an array of activities to 
 delight all senses. Whether you're seeking inspiration for your fitness jo
 urney\, indulging in delicious treats\, or simply soaking in the vibrant a
 mbiance\, our Fitness Festival promises an unforgettable experience for al
 l. Join us as we celebrate the joy of movement\, community\, and holistic 
 well-being amidst a backdrop of excitement and exhilaration.\n\nEvent Info
 rmation:\n\nEvent Name: ATL Fit Fest\n\nHost: BnDorsed Sports\n\nDate and 
 Time: Saturday\, June 1 • 12:00 pm - 6:00 pm EDT\n\nLocation: Undergroun
 d Atlanta\, 50 Upper Alabama Street\, Atlanta\, GA 30303\, United States\n
 \nAbout this Event:\n\nGet ready to sweat\, smile\, and shine at the ATL F
 it Fest! Join us for a day packed with energizing workouts\, wellness work
 shops\, and fun-filled activities to inspire your fitness journey.\n\nHigh
 lights:\n\nDynamic Fitness Circuits\n\nHealthy Eating Demos and Nutrition 
 Tips\n\nNutritional Workshops\n\nFitness Challenges and Contests\n\nVendor
  Booths with Wellness Products\n\nLive DJ and Music to Keep You Moving\n\n
 Giveaways and Prizes\n\nFor more information\, email us at rnbnthings@gmai
 l.com. Let's come together to celebrate health\, wellness\, and the joy of
  movement at the Fitness Festival Extravaganza! #FitnessFestival #SweatSmi
 leShine #HealthyLiving\n\nTicket Information:\n\nEarly Workout Admission: 
 $20.00 (+$3.18 Fee / +$2.06 Sales Tax)\n\nSales end on Jun 1\, 2024\n\nBlo
 ck Party Only Ticket: $30.00 (+$3.85 Fee / +$3.01 Sales Tax)\n\nSales end 
 on Jun 2\, 2024\n\n&nbsp\;\n\nGET TICKETS\n\nDate: June 1st\, 2024\n\nTime
 : 12:00 pm - 2:00 pm\n\nLocation: Underground Atlanta\, 50 Upper Alabama S
 t\, Atlanta\, GA 30303\n\nWorkout Session: Dynamic Fitness Circuits\n\nEss
 ential for Bring:\n\nComfortable workout attire\n\nWater bottle\n\nYoga ma
 t or towel\n\nRefund Policy:\n\nContact the organizer to request a refund.
 \n\nEventbrite's fee is nonrefundable.\n\n\n\n\n\n\n\n\n\n\n\n\n\n
ATTACH;FMTTYPE=image/jpeg:https://breatheatlanta.us/wp-content/uploads/202
 4/03/https___cdn.evbuc_.com_images_706060559_244640390684_1_original.jpg
CATEGORIES:Wellness Events,Yoga Events
LOCATION:Underground Atlanta\, 50 Upper Alabama Street Atlanta\, GA 30303 U
 nited States\, GA \, United States\, 30303 \, GA \, United States
X-APPLE-STRUCTURED-LOCATION;VALUE=URI;X-ADDRESS=50 Upper Alabama Street Atl
 anta\, GA 30303 United States\, GA \, United States\, 30303 \, GA \, Unite
 d States;X-APPLE-RADIUS=100;X-TITLE=Underground Atlanta:geo:0,0
END:VEVENT
BEGIN:VTIMEZONE
TZID:America/New_York
X-LIC-LOCATION:America/New_York
BEGIN:STANDARD
DTSTART:20231105T010000
TZOFFSETFROM:-0400
TZOFFSETTO:-0500
TZNAME:EST
END:STANDARD
END:VTIMEZONE
END:VCALENDAR