BEGIN:VCALENDAR
VERSION:2.0
PRODID:-//wp-events-plugin.com//7.2.3.1//EN
TZID:America/New_York
X-WR-TIMEZONE:America/New_York
BEGIN:VEVENT
UID:644@breatheatlanta.us
DTSTART;TZID=America/New_York:20241026T120000
DTEND;TZID=America/New_York:20241026T160000
DTSTAMP:20241018T075929Z
URL:https://breatheatlanta.us/events/atl-kids-fall-festival/
SUMMARY:ATL Kids Fall Festival
DESCRIPTION:The ATL Kids Fall Festival is set to be the highlight of the se
 ason\, inviting families to immerse themselves in a day of joy and excitem
 ent. This vibrant celebration will feature an array of delightful activiti
 es designed to entertain and engage children of all ages.\n\nFamilies can 
 look forward to a fantastic lineup that includes delicious food stalls off
 ering seasonal treats\, lively music that will keep spirits high\, and a v
 ariety of games that promise fun and laughter. From pumpkin decorating to 
 face painting\, there will be something for everyone to enjoy.\n\nThis fes
 tival is more than just an event\; it’s a community gathering where frie
 nds and neighbors can connect\, share in the festivities\, and create last
 ing memories. Whether families are enjoying live performances\, exploring 
 interactive booths\, or simply savoring the tastes of fall\, the ATL Kids 
 Fall Festival is sure to be an unforgettable experience.\n\nMark your cale
 ndars and prepare for a day filled with laughter\, community spirit\, and 
 the joyful celebration of autumn!\n\nGET TICKETS\n
ATTACH;FMTTYPE=image/jpeg:https://breatheatlanta.us/wp-content/uploads/202
 4/10/ATL-Kids-Fall-Festival.jpg
CATEGORIES:Things To Do
LOCATION:Oak Hill Child Family and Adolescent Center\, 2805 Metropolitan Pa
 rkway Southwest Atlanta\, Atlanta\, Georgia\, 30315\, GA\, United States
X-APPLE-STRUCTURED-LOCATION;VALUE=URI;X-ADDRESS=2805 Metropolitan Parkway S
 outhwest Atlanta\, Atlanta\, Georgia\, 30315\, GA\, United States;X-APPLE-
 RADIUS=100;X-TITLE=Oak Hill Child Family and Adolescent Center:geo:0,0
END:VEVENT
BEGIN:VTIMEZONE
TZID:America/New_York
X-LIC-LOCATION:America/New_York
BEGIN:DAYLIGHT
DTSTART:20240310T030000
TZOFFSETFROM:-0500
TZOFFSETTO:-0400
TZNAME:EDT
END:DAYLIGHT
END:VTIMEZONE
END:VCALENDAR