BEGIN:VCALENDAR
VERSION:2.0
PRODID:-//wp-events-plugin.com//7.2.3.1//EN
TZID:America/New_York
X-WR-TIMEZONE:America/New_York
BEGIN:VEVENT
UID:376@breatheatlanta.us
DTSTART;TZID=America/New_York:20240818T180000
DTEND;TZID=America/New_York:20240818T200000
DTSTAMP:20240730T161702Z
URL:https://breatheatlanta.us/events/atl-soulful-stillness-rendezvous-a-mo
 nthly-meditative-sound-bath-event/
SUMMARY:ATL “Soulful Stillness Rendezvous”: A Monthly Meditative Sound 
 Bath Event
DESCRIPTION:Therapeutic Sanctuary Presents: Soulful Stillness Rendezvous\nI
 mmerse yourself in tranquility with the Soulful Stillness Rendezvous\, a m
 onthly meditative sound bath event featuring supermodel\, actress\, and so
 und healer Toccara Jones. This transformative experience takes place on Su
 nday\, August 17th\, from 6-8pm at the KMG Soundstage &amp\; Studio.\n\nEv
 ent Highlights:\n\n 	Sound Bath: Let the soothing sounds wash over you\, c
 reating a state of deep relaxation and inner peace.\n 	Breath Work: Engage
  in guided breath work to center your mind and calm your body.\n 	Mirror A
 ffirmations: Embrace positive affirmations to boost your self-esteem and m
 ental clarity.\n 	Guided Meditation: Follow a structured meditation sessio
 n designed to help you discover the serenity within.\n 	Aromatherapy: Enha
 nce your relaxation with the therapeutic benefits of essential oils.\n\nAb
 out the Event:\n\nJoin us for an evening of therapeutic practices designed
  to help you find stillness and rejuvenate your spirit. Whether you're see
 king to relieve stress\, improve mental clarity\, or simply enjoy a peacef
 ul moment\, the Soulful Stillness Rendezvous offers the perfect sanctuary.
 \n\nDiscover the serenity that lies within you at the KMG Soundstage &amp\
 ; Studio. We look forward to welcoming you to this monthly oasis of calm a
 nd rejuvenation.\n\nGET TICKETS\n
ATTACH;FMTTYPE=image/jpeg:https://breatheatlanta.us/wp-content/uploads/202
 4/07/ATL-Soulful-Stillness-Rendezvous-A-Monthly-Meditative-Sound-Bath-Even
 t.jpg
CATEGORIES:Mindfulness Events,Things To Do,Wellness Events
LOCATION:KMG Studios\, 3465 Buffington Center College Park\, Atlanta\, Unit
 ed States\, 30349\, GA \, United States
X-APPLE-STRUCTURED-LOCATION;VALUE=URI;X-ADDRESS=3465 Buffington Center Coll
 ege Park\, Atlanta\, United States\, 30349\, GA \, United States;X-APPLE-R
 ADIUS=100;X-TITLE=KMG Studios:geo:0,0
END:VEVENT
BEGIN:VTIMEZONE
TZID:America/New_York
X-LIC-LOCATION:America/New_York
BEGIN:DAYLIGHT
DTSTART:20240310T030000
TZOFFSETFROM:-0500
TZOFFSETTO:-0400
TZNAME:EDT
END:DAYLIGHT
END:VTIMEZONE
END:VCALENDAR