BEGIN:VCALENDAR
VERSION:2.0
PRODID:-//wp-events-plugin.com//7.2.3.1//EN
TZID:America/New_York
X-WR-TIMEZONE:America/New_York
BEGIN:VEVENT
UID:634@breatheatlanta.us
DTSTART;TZID=America/New_York:20241026T120000
DTEND;TZID=America/New_York:20241026T190000
DTSTAMP:20241018T071056Z
URL:https://breatheatlanta.us/events/atlanta-african-restaurant-week-festi
 val-2024/
SUMMARY:Atlanta African Restaurant Week Festival 2024
DESCRIPTION:Get ready for an unforgettable experience at the Atlanta Africa
 n Restaurant Week Festival 2024! This vibrant outdoor festival invites eve
 ryone to shop\, eat\, dance\, and network while supporting local businesse
 s and celebrating the rich tapestry of African and Black diaspora culture.
 \n\nEvent Highlights:\n\n 	Food Tastings: Savor a diverse array of delicio
 us dishes that showcase the best of African cuisine. Local restaurants and
  chefs will present their culinary delights\, offering attendees a unique 
 opportunity to taste authentic flavors from various regions.\n 	Popup Mark
 et: Discover a marketplace filled with local artisans and vendors featurin
 g handcrafted goods\, cultural artifacts\, and unique merchandise. It's th
 e perfect place to find one-of-a-kind gifts and support small businesses.\
 n 	Live Cultural Performances: Enjoy captivating performances that celebra
 te African heritage. From traditional dance to contemporary acts\, attende
 es will be immersed in the dynamic and expressive cultural expressions of 
 the African community.\n 	DJ Sets with Afrobeats and Global Sounds: Dance 
 to the infectious beats of Afrobeats and other global sounds as talented D
 Js spin tracks that will keep the energy high and the crowd moving.\n 	Che
 f Competition: Witness the culinary talents of local chefs as they compete
  in an exciting cooking challenge. Experience the creativity and skills of
  those dedicated to bringing African cuisine to the forefront.\n\nThis fes
 tival is not just about food\; it's a vibrant celebration of culture\, com
 munity\, and creativity. Whether you are a food lover\, a culture enthusia
 st\, or simply looking for a fun day out\, the Atlanta African Restaurant 
 Week Festival promises something for everyone.\n\nJoin us for this incredi
 ble event and help honor the rich culinary traditions and cultural express
 ions of the African diaspora. Come ready to engage\, enjoy\, and experienc
 e the best of what Atlanta has to offer!\n\nGET TICKETS\n
ATTACH;FMTTYPE=image/jpeg:https://breatheatlanta.us/wp-content/uploads/202
 4/10/Atlanta-African-Restaurant-Week-Festival-2024.jpg
CATEGORIES:Food &amp; Drink Events,Things To Do
LOCATION:Created Noble\, 381 Edgewood Ave SE Atlanta\,\, Atlanta\, Georgia\
 , 30312\, GA\, United States
X-APPLE-STRUCTURED-LOCATION;VALUE=URI;X-ADDRESS=381 Edgewood Ave SE Atlanta
 \,\, Atlanta\, Georgia\, 30312\, GA\, United States;X-APPLE-RADIUS=100;X-T
 ITLE=Created Noble:geo:0,0
END:VEVENT
BEGIN:VTIMEZONE
TZID:America/New_York
X-LIC-LOCATION:America/New_York
BEGIN:DAYLIGHT
DTSTART:20240310T030000
TZOFFSETFROM:-0500
TZOFFSETTO:-0400
TZNAME:EDT
END:DAYLIGHT
END:VTIMEZONE
END:VCALENDAR