BEGIN:VCALENDAR
VERSION:2.0
PRODID:-//wp-events-plugin.com//7.2.3.1//EN
TZID:America/New_York
X-WR-TIMEZONE:America/New_York
BEGIN:VEVENT
UID:364@breatheatlanta.us
DTSTART;TZID=America/New_York:20240815T000000
DTEND;TZID=America/New_York:20240815T000000
DTSTAMP:20240730T074138Z
URL:https://breatheatlanta.us/events/atlanta-career-fair/
SUMMARY:Atlanta Career Fair
DESCRIPTION:Are you ready to advance your career? Join us at the Atlanta Ca
 reer Fair\, where you'll have the unique opportunity to connect with leadi
 ng employers and explore exciting job prospects in your area.\n\nEvent Hig
 hlights:\n\n1. Face-to-Face Networking: Engage directly with recruiters an
 d hiring managers from top companies. This is your chance to make a strong
  impression and learn more about potential employers.\n\n2. Explore Job Op
 portunities: Discover a wide range of open positions across various indust
 ries. Gain insights into different companies\, their work culture\, and wh
 at they’re looking for in potential candidates.\n\n3. Professional Netwo
 rking: Expand your professional network by meeting industry professionals 
 and fellow job seekers. Build valuable connections that could pave the way
  for future career opportunities.\n\nWhy Attend? This career fair offers a
  platform to explore new career paths\, understand job openings in depth\,
  and network with key decision-makers in your field. It's an invaluable ch
 ance to position yourself for career advancement and find your next great 
 opportunity.\n\nDon’t miss this chance to propel your career forward. Re
 gister now and get ready for an event that could shape your professional f
 uture. We look forward to seeing you there!\n\nGET TICKETS\n
ATTACH;FMTTYPE=image/jpeg:https://breatheatlanta.us/wp-content/uploads/202
 4/07/Atlanta-Career-Fair.jpg
CATEGORIES:Mindfulness Events,Things To Do
LOCATION:Hilton Garden Inn Atlanta Perimeter Center\, 3493 Ashford Dunwoody
  Road Brookhaven\, Atlanta\, Georgia\, 30319\, GA \, United States
X-APPLE-STRUCTURED-LOCATION;VALUE=URI;X-ADDRESS=3493 Ashford Dunwoody Road 
 Brookhaven\, Atlanta\, Georgia\, 30319\, GA \, United States;X-APPLE-RADIU
 S=100;X-TITLE=Hilton Garden Inn Atlanta Perimeter Center:geo:0,0
END:VEVENT
BEGIN:VTIMEZONE
TZID:America/New_York
X-LIC-LOCATION:America/New_York
BEGIN:DAYLIGHT
DTSTART:20240310T030000
TZOFFSETFROM:-0500
TZOFFSETTO:-0400
TZNAME:EDT
END:DAYLIGHT
END:VTIMEZONE
END:VCALENDAR